BEGIN:VCALENDAR
VERSION:2.0
PRODID:-//ChamberMaster//Event Calendar 2.0//EN
METHOD:PUBLISH
X-PUBLISHED-TTL:P3D
REFRESH-INTERVAL:P3D
CALSCALE:GREGORIAN
BEGIN:VEVENT
DTSTART:20201028T150000Z
DTEND:20201028T163000Z
X-MICROSOFT-CDO-ALLDAYEVENT:FALSE
SUMMARY:Unstick Your Business
DESCRIPTION:When in March as the nation was grasping the ramifications of the COVID-19 Pandemic and most all businesses were sent home to "stay home and stay safe"\, I don't think anyone thought we would be still in a modified or some still shut down mode in October.  Now\, as we are looking forward through the end of 2020 and into 2021 we are hearing businesses feeling "stuck" and needing inspiration and hope to transition through these days ahead. \n\n"UNSTICK YOUR BUSINESS" will bring together 4 business owners that have found creative ways to navigate their business through COVID-19 regulations.  Their honest and authentic information\, we believe you will find inspiring and will help give you some great ideas for your own business.  \n\n \n\nModerated by Dr. Gene Sharratt you will hear from:\n\nTyler Russell   Tumbleweed Shop & Studio\n\nKelsey Dew   Dilly Deli & Sweetwood BBQ\n\nElvis Garcia   Seattle Yoga Lounge & Cafe\n\nJanice Barnes   Tranquility Day Spa\n\n \n\nJoin us for an uplifting and inspiring hour of conversation followed by a Q&A session where you can ask our panelists questions that can help you get "UNSTUCK".\n\nPlease pre-register to receive the zoom link information. HUGE thank you to the Wenatchee Convention Center and Skeeterbuggins Productions for helping us bring this virtual event to life.
X-ALT-DESC;FMTTYPE=text/html:<span style="font-family:century gothic\,sans-serif\;">When in March as the nation was grasping the ramifications of the COVID-19 Pandemic and most all businesses were sent home to &ldquo\;stay home and stay safe&rdquo\;\, I don&rsquo\;t think anyone thought we would be still in a modified or some still shut down mode in October.&nbsp\; Now\, as we are looking forward through the end of 2020 and into 2021 we are hearing businesses feeling &ldquo\;stuck&rdquo\; and needing inspiration and hope to transition through these days ahead. </span><br />\n<span style="font-family:century gothic\,sans-serif\;">&ldquo\;UNSTICK YOUR BUSINESS&rdquo\; will bring together 4 business owners that have found creative ways to navigate their business through COVID-19 regulations.&nbsp\; Their honest and authentic information\, we believe you will find inspiring and will help give you some great ideas for your own business.&nbsp\; </span><br />\n&nbsp\;<br />\n<span style="font-family:century gothic\,sans-serif\;">Moderated by Dr. Gene Sharratt you will hear from:</span><br />\n<span style="font-family:century gothic\,sans-serif\;">Tyler Russell &ndash\; Tumbleweed Shop &amp\; Studio</span><br />\n<span style="font-family:century gothic\,sans-serif\;">Kelsey Dew &ndash\; Dilly Deli &amp\; Sweetwood BBQ</span><br />\n<span style="font-family:century gothic\,sans-serif\;">Elvis Garcia &ndash\; Seattle Yoga Lounge &amp\; Cafe</span><br />\n<span style="font-family:century gothic\,sans-serif\;">Janice Barnes &ndash\; Tranquility Day Spa</span><br />\n&nbsp\;<br />\n<span style="font-family:century gothic\,sans-serif\;">Join us for an uplifting and inspiring hour of conversation followed by a Q&amp\;A session where you can ask our panelists questions that can help you get &ldquo\;UNSTUCK&rdquo\;.</span><br />\n<span style="font-family:century gothic\,sans-serif\;">Please pre-register to receive the zoom link information. HUGE thank you to the Wenatchee Convention Center and Skeeterbuggins Productions for helping us bring this virtual event to life. </span>
LOCATION:Zoom
UID:e.289.7768
SEQUENCE:3
DTSTAMP:20260424T155346Z
URL:https://business.wenatchee.org/events/details/unstick-your-business-7768
END:VEVENT

END:VCALENDAR
