BEGIN:VCALENDAR
VERSION:2.0
PRODID:-//ChamberMaster//Event Calendar 2.0//EN
METHOD:PUBLISH
X-PUBLISHED-TTL:P3D
REFRESH-INTERVAL:P3D
CALSCALE:GREGORIAN
BEGIN:VEVENT
DTSTART:20190308T010000Z
DTEND:20190308T023000Z
X-MICROSOFT-CDO-ALLDAYEVENT:FALSE
SUMMARY:Unlock the 5 Secret Weapons fir 1st Time Home Buyers
DESCRIPTION:Join Home Load Expert Karen Norlin for this brief and fun explaination of this very daunting first time experience. She has the knowledge and skills to walk you through everything you will need to know.
X-ALT-DESC;FMTTYPE=text/html:Join Home Load Expert Karen Norlin for this brief and fun explaination of this very daunting first time experience. She has the knowledge and skills to walk you through everything you will need to know.
LOCATION:The Wenatchee Valley Chamber of Commerce 137 N Wenatchee Avenue Suite 101
UID:e.289.7168
SEQUENCE:3
DTSTAMP:20260425T233320Z
URL:https://business.wenatchee.org/events/details/unlock-the-5-secret-weapons-fir-1st-time-home-buyers-7168
END:VEVENT

END:VCALENDAR
