BEGIN:VCALENDAR
VERSION:2.0
PRODID:-//ChamberMaster//Event Calendar 2.0//EN
METHOD:PUBLISH
X-PUBLISHED-TTL:P3D
REFRESH-INTERVAL:P3D
CALSCALE:GREGORIAN
BEGIN:VEVENT
DTSTART:20191030T010000Z
DTEND:20191030T020000Z
X-MICROSOFT-CDO-ALLDAYEVENT:FALSE
SUMMARY:Town Hall Meeting - Chelan County Regional Justice Center
DESCRIPTION:The Chelan County Regional Jail is hosting a "Town Hall Meeting" to share information and answer any questions about our Regional Jail.  We invite all who are interested to join us.
X-ALT-DESC;FMTTYPE=text/html:<span style="color:#1F497D\;"><span style="font-family:arial\,sans-serif\;"><span style="font-size:12.0pt\;">The Chelan County Regional Jail is hosting a &ldquo\;Town Hall Meeting&rdquo\; to share information and answer any questions about our Regional Jail. &nbsp\;We invite all who are interested to join us.</span></span></span>
LOCATION:Confluence Technology Center 285 Technology Way\, Wenatchee
UID:e.289.7517
SEQUENCE:3
DTSTAMP:20260425T120759Z
URL:https://business.wenatchee.org/events/details/town-hall-meeting-chelan-county-regional-justice-center-7517
END:VEVENT

END:VCALENDAR
