BEGIN:VCALENDAR
VERSION:2.0
PRODID:-//ChamberMaster//Event Calendar 2.0//EN
METHOD:PUBLISH
X-PUBLISHED-TTL:P3D
REFRESH-INTERVAL:P3D
CALSCALE:GREGORIAN
BEGIN:VEVENT
DTSTART:20210715T233000Z
DTEND:20210716T010000Z
X-MICROSOFT-CDO-ALLDAYEVENT:FALSE
SUMMARY:Timberloom Ribbon-Cutting Ceremony
DESCRIPTION:You're invited to the Timberloom opening celebration!\n\n\n\nVisit their new location on 200 S. Columbia St. in Wenatchee. Browse their large selection of wood species for DIY projects or custom-made pieces. Enjoy wine from Horan Estates and food catered by Me2U catering.
X-ALT-DESC;FMTTYPE=text/html:<br />\n<span style="font-size:18px\;"><span style="font-family:arial\;">You&rsquo\;re invited to the Timberloom opening celebration!<br />\n<br />\nVisit their new location on 200 S. Columbia St. in Wenatchee. Browse their large selection of wood species for DIY projects or custom-made pieces. Enjoy wine from Horan Estates and food catered by Me2U catering. &nbsp\;</span></span>
LOCATION:200 S. Columbia St. Wenatchee\, WA 98801
UID:e.289.7851
SEQUENCE:3
DTSTAMP:20260424T103318Z
URL:https://business.wenatchee.org/events/details/timberloom-ribbon-cutting-ceremony-7851
END:VEVENT

END:VCALENDAR
