BEGIN:VCALENDAR
VERSION:2.0
PRODID:-//ChamberMaster//Event Calendar 2.0//EN
METHOD:PUBLISH
X-PUBLISHED-TTL:P3D
REFRESH-INTERVAL:P3D
CALSCALE:GREGORIAN
BEGIN:VEVENT
DTSTART:20210522T160000Z
DTEND:20210523T010000Z
X-MICROSOFT-CDO-ALLDAYEVENT:FALSE
SUMMARY:Timberloom Grand Opening
DESCRIPTION:Timberloom Wenatchee is having their Grand Opening this Saturday\, May 22nd from 9am - 6pm. We will have a $250 in store credit Gift Certificate to give away\, Wenatchee Valley Brewing Company will be supplying beverages\, Horan Estates Winery is supplying wine & charcuterie boxes will be created by Me2You Catering! Please come by and see us\, see how Timberloom can add a unique and beautiful piece to your home's design.  Pines\, Firs\, Larches\, Walnuts. Elms\, Maples\, and Sequoia Rewood. These are just a few of the wood species you can choose from at Timberloom in Wenatchee\, for your do it yourself projects of something handcrafted by their craftsman.  All of the wood is salvaged or repurposed\, due to fire or disease.  We have that special piece  of furniture you'be been looking for.  If we don't have it\, we will make it for you.  We are at the corner of Columbia Street and Yakima Street.
X-ALT-DESC;FMTTYPE=text/html:<p><span style="font-size:12px"><span style="font-family:segoe ui historic\,segoe ui\,helvetica\,arial\,sans-serif"><a class="oajrlxb2 g5ia77u1 qu0x051f esr5mh6w e9989ue4 r7d6kgcz rq0escxv nhd2j8a9 nc684nl6 p7hjln8o kvgmc6g5 cxmmr5t8 oygrvhab hcukyx3x jb3vyjys rz4wbd8a qt6c0cv9 a8nywdso i1ao9s8h esuyzwwr f1sip0of lzcic4wl q66pz984 gpro0wi8 b1v8xokw" href="https://www.facebook.com/timberloomspirit/?__cft__[0]=AZX3iZm_MohxDBSkiEbf-7-b6ojxls-x7mQkKwYLqO0xo1qK_xt5F49_gvbDj1qusLPTlkygbs0VrDCcdlPXrYWoZGJYnepJ8LsOfX2cnv0A3oTU2YMBh48DyRgV0o0MqrJ1-aWc0SNrnJxlj58AceIzuxtwgxdaIuLfFbq3PVojhc0OiLaRLfJWZbprMFts44A&amp\;__tn__=kK-R" style="color: var(--accent)\; cursor: pointer\; text-decoration-line: none\; outline: none\; list-style: none\; border-width: 0px\; border-style: initial\; border-color: initial\; padding: 0px\; margin: 0px\; touch-action: manipulation\; background-color: transparent\; text-align: inherit\; display: inline\; -webkit-tap-highlight-color: transparent\; box-sizing: border-box\; font-family: inherit\;" tabindex="0">Timberloom</a></span><span style="font-family:segoe ui historic\,segoe ui\,helvetica\,arial\,sans-serif"> Wenatchee is having their Grand Opening this Saturday\, May 22nd from 9am - 6pm. We will have a $250 in store credit Gift Certificate to give away\, </span><span style="font-family:segoe ui historic\,segoe ui\,helvetica\,arial\,sans-serif"><a class="oajrlxb2 g5ia77u1 qu0x051f esr5mh6w e9989ue4 r7d6kgcz rq0escxv nhd2j8a9 nc684nl6 p7hjln8o kvgmc6g5 cxmmr5t8 oygrvhab hcukyx3x jb3vyjys rz4wbd8a qt6c0cv9 a8nywdso i1ao9s8h esuyzwwr f1sip0of lzcic4wl q66pz984 gpro0wi8 b1v8xokw" href="https://www.facebook.com/wenatcheevalleybrewing/?__cft__[0]=AZX3iZm_MohxDBSkiEbf-7-b6ojxls-x7mQkKwYLqO0xo1qK_xt5F49_gvbDj1qusLPTlkygbs0VrDCcdlPXrYWoZGJYnepJ8LsOfX2cnv0A3oTU2YMBh48DyRgV0o0MqrJ1-aWc0SNrnJxlj58AceIzuxtwgxdaIuLfFbq3PVojhc0OiLaRLfJWZbprMFts44A&amp\;__tn__=kK-R" style="color: var(--accent)\; cursor: pointer\; text-decoration-line: none\; outline: none\; list-style: none\; border-width: 0px\; border-style: initial\; border-color: initial\; padding: 0px\; margin: 0px\; touch-action: manipulation\; background-color: transparent\; text-align: inherit\; display: inline\; -webkit-tap-highlight-color: transparent\; box-sizing: border-box\; font-family: inherit\;" tabindex="0">Wenatchee Valley Brewing Company</a></span><span style="font-family:segoe ui historic\,segoe ui\,helvetica\,arial\,sans-serif"> will be supplying beverages\, </span><span style="font-family:segoe ui historic\,segoe ui\,helvetica\,arial\,sans-serif"><a class="oajrlxb2 g5ia77u1 qu0x051f esr5mh6w e9989ue4 r7d6kgcz rq0escxv nhd2j8a9 nc684nl6 p7hjln8o kvgmc6g5 cxmmr5t8 oygrvhab hcukyx3x jb3vyjys rz4wbd8a qt6c0cv9 a8nywdso i1ao9s8h esuyzwwr f1sip0of lzcic4wl q66pz984 gpro0wi8 b1v8xokw" href="https://www.facebook.com/horanestateswinery/?__cft__[0]=AZX3iZm_MohxDBSkiEbf-7-b6ojxls-x7mQkKwYLqO0xo1qK_xt5F49_gvbDj1qusLPTlkygbs0VrDCcdlPXrYWoZGJYnepJ8LsOfX2cnv0A3oTU2YMBh48DyRgV0o0MqrJ1-aWc0SNrnJxlj58AceIzuxtwgxdaIuLfFbq3PVojhc0OiLaRLfJWZbprMFts44A&amp\;__tn__=kK-R" style="color: var(--accent)\; cursor: pointer\; outline: none\; list-style: none\; border-width: 0px\; border-style: initial\; border-color: initial\; padding: 0px\; margin: 0px\; touch-action: manipulation\; background-color: transparent\; text-align: inherit\; display: inline\; -webkit-tap-highlight-color: transparent\; box-sizing: border-box\; font-family: inherit\;" tabindex="0">Horan Estates Winery</a> is supplying wine &amp\; charcuterie boxes will be created by Me2You Catering! Please come by and see us\, see how Timberloom can add a unique and beautiful piece to your home&rsquo\;s design.&nbsp\;&nbsp\;</span><span style="font-family:calibri\,sans-serif">Pines\, Firs\, Larches\, Walnuts. Elms\, Maples\, and Sequoia Rewood. These are just a few of the wood species you can choose from at Timberloom in Wenatchee\, for your do it yourself projects of something handcrafted by their craftsman.&nbsp\; All of the wood is salvaged or repurposed\, due to fire or disease.&nbsp\; We have that special piece&nbsp\; of furniture you&#39\;be been looking for.&nbsp\; If we don&#39\;t have it\, we will make it for you.&nbsp\; We are at the corner of Columbia Street and Yakima Street.</span></span></p>\n
LOCATION:Corner of Yakima and Columbia Street
UID:e.289.7839
SEQUENCE:3
DTSTAMP:20260422T201916Z
URL:https://business.wenatchee.org/events/details/timberloom-grand-opening-7839
END:VEVENT

END:VCALENDAR
