BEGIN:VCALENDAR
VERSION:2.0
PRODID:-//ChamberMaster//Event Calendar 2.0//EN
METHOD:PUBLISH
X-PUBLISHED-TTL:P3D
REFRESH-INTERVAL:P3D
CALSCALE:GREGORIAN
BEGIN:VEVENT
DTSTART:20190320T020000Z
DTEND:20190320T040000Z
X-MICROSOFT-CDO-ALLDAYEVENT:FALSE
SUMMARY:The Trouble With Wolves
DESCRIPTION:The museum's Environmental Film and Lecture Series sponsored by The Wenatchee River Institute presents The Trouble with Wolves. Death threats\, court battles\, and an iconic endangered species in the middle. The Trouble With Wolves takes an up-close look at the most heated and controversial wildlife conservation debate of our time. A $5 donation is suggested. Light refreshments will be provided along with a no-host wine bar. Thank you to Chelan-Douglas Land Trust for sponsoring this event.
X-ALT-DESC;FMTTYPE=text/html:The museum&rsquo\;s Environmental Film and Lecture Series sponsored by The Wenatchee River Institute presents The Trouble with Wolves. Death threats\, court battles\, and an iconic endangered species in the middle. The Trouble With Wolves takes an up-close look at the most heated and controversial wildlife conservation debate of our time. A $5 donation is suggested. Light refreshments will be provided along with a no-host wine bar. Thank you to Chelan-Douglas Land Trust for sponsoring this event.
LOCATION:Wenatchee Valley Museum & Cultural Center
UID:e.289.7180
SEQUENCE:3
DTSTAMP:20260426T012002Z
URL:https://business.wenatchee.org/events/details/the-trouble-with-wolves-7180
END:VEVENT

END:VCALENDAR
