BEGIN:VCALENDAR
VERSION:2.0
PRODID:-//ChamberMaster//Event Calendar 2.0//EN
METHOD:PUBLISH
X-PUBLISHED-TTL:P3D
REFRESH-INTERVAL:P3D
CALSCALE:GREGORIAN
BEGIN:VEVENT
DTSTART:20190403T020000Z
DTEND:20190403T040000Z
X-MICROSOFT-CDO-ALLDAYEVENT:FALSE
SUMMARY:The Horan Natural Area
DESCRIPTION:The museum's Environmental Film and Lecture Series sponsored by The Wenatchee River Institute presents The Horan Natural Area. Historically home to the P'squosa/Wenatchi/Wenatchapum Native Peoples\, Horan supports a wide range of recreational and educational uses. The NCW Audubon Society will present an overview of the history and current conditions in the Horan Natural Area and discuss future opportunities to create a world-class urban\, wildland park for the future. Free and open to the public. A $5 donation is suggested. Light refreshments will be provided along with a no-host wine bar. Thank you to the Audubon Society for sponsoring this event.
X-ALT-DESC;FMTTYPE=text/html:The museum&rsquo\;s Environmental Film and Lecture Series sponsored by The Wenatchee River Institute presents The Horan Natural Area. Historically home to the P&rsquo\;squosa/Wenatchi/Wenatchapum Native Peoples\, Horan supports a wide range of recreational and educational uses. The NCW Audubon Society will present an overview of the history and current conditions in the Horan Natural Area and discuss future opportunities to create a world-class urban\, wildland park for the future. Free and open to the public. A $5 donation is suggested. Light refreshments will be provided along with a no-host wine bar. Thank you to the Audubon Society for sponsoring this event.
LOCATION:Wenatchee Valley Museum & Cultural Center 127 S. Mission\, Wenatchee
UID:e.289.7205
SEQUENCE:3
DTSTAMP:20260425T214915Z
URL:https://business.wenatchee.org/events/details/the-horan-natural-area-7205
END:VEVENT

END:VCALENDAR
