BEGIN:VCALENDAR
VERSION:2.0
PRODID:-//ChamberMaster//Event Calendar 2.0//EN
METHOD:PUBLISH
X-PUBLISHED-TTL:P3D
REFRESH-INTERVAL:P3D
CALSCALE:GREGORIAN
BEGIN:VEVENT
DTSTART:20190223T170000Z
DTEND:20190223T190000Z
X-MICROSOFT-CDO-ALLDAYEVENT:FALSE
SUMMARY:The Apple Leaf Pancake Breakfast
DESCRIPTION:Support The Apple Leaf\, Wenatchee High School's student newspaper\, this Saturday from 9 a.m. to 11 a.m. at our second annual pancake breakfast! Tickets are $10\, and breakfast will be served at the Wenatchee Valley Technical Skills Center. Come enjoy all the pancakes you can eat and entertainment provided by our staff!
X-ALT-DESC;FMTTYPE=text/html:Support The Apple Leaf\, Wenatchee High School&#39\;s student newspaper\, this Saturday from 9 a.m. to 11 a.m. at our second annual pancake breakfast! Tickets are $10\, and breakfast will be served at the Wenatchee Valley Technical Skills Center. Come enjoy all the pancakes you can eat and entertainment provided by our staff!
LOCATION:Wenatchee Valley Technical Skills Center
UID:e.289.7160
SEQUENCE:3
DTSTAMP:20260426T005614Z
URL:https://business.wenatchee.org/events/details/the-apple-leaf-pancake-breakfast-7160
END:VEVENT

END:VCALENDAR
