BEGIN:VCALENDAR
VERSION:2.0
PRODID:-//ChamberMaster//Event Calendar 2.0//EN
METHOD:PUBLISH
X-PUBLISHED-TTL:P3D
REFRESH-INTERVAL:P3D
CALSCALE:GREGORIAN
BEGIN:VEVENT
DTSTART:20190220T200000Z
DTEND:20190221T010000Z
X-MICROSOFT-CDO-ALLDAYEVENT:FALSE
SUMMARY:TEDxWenatchee Live Stream Event at the Library
DESCRIPTION:The TEDx Wenatchee event at the Wenatchee Valley College Grove Theatre is by invitation only\, but you are invited to the live stream event at Wenatchee Public Library! The topic of this year's event is Education. With a list of 18 local speakers\, this is sure to be an enlightening\, engaging\, and entertaining event!
X-ALT-DESC;FMTTYPE=text/html:The TEDx Wenatchee event at the Wenatchee Valley College Grove Theatre is by invitation only\, but you are invited to the live stream event at Wenatchee Public Library! The topic of this year&#39\;s event is Education. With a list of 18 local speakers\, this is sure to be an enlightening\, engaging\, and entertaining event!
LOCATION:Wenatchee Public Library 310 Douglas Street Wenatchee\, WA 98801
UID:e.289.7057
SEQUENCE:3
DTSTAMP:20260426T005834Z
URL:https://business.wenatchee.org/events/details/tedxwenatchee-live-stream-event-at-the-library-7057
END:VEVENT

END:VCALENDAR
