BEGIN:VCALENDAR
VERSION:2.0
PRODID:-//ChamberMaster//Event Calendar 2.0//EN
METHOD:PUBLISH
X-PUBLISHED-TTL:P3D
REFRESH-INTERVAL:P3D
CALSCALE:GREGORIAN
BEGIN:VEVENT
DTSTART:20190314T000000Z
DTEND:20190314T020000Z
X-MICROSOFT-CDO-ALLDAYEVENT:FALSE
SUMMARY:Tech Tour
DESCRIPTION:You are invited to join GWATA and GTC Technical Support as we celebrate GTC's 20th Anniversary! During this "open house" style event\, you'll have the opportunity to tour GTC's call center\, network with attendees\, and enjoy appetizers paired with a glass of wine. This is a free event\, but registration is strongly encouraged.
X-ALT-DESC;FMTTYPE=text/html:You are invited to join GWATA and GTC Technical Support as we celebrate GTC&rsquo\;s 20th Anniversary! During this &ldquo\;open house&rdquo\; style event\, you&rsquo\;ll have the opportunity to tour GTC&rsquo\;s call center\, network with attendees\, and enjoy appetizers paired with a glass of wine. This is a free event\, but registration is strongly encouraged.
LOCATION:GTC Technical Support 4 Kittitas Street\, Suite 300 Wenatchee\, WA 98801
UID:e.289.7163
SEQUENCE:3
DTSTAMP:20260426T011624Z
URL:https://business.wenatchee.org/events/details/tech-tour-7163
END:VEVENT

END:VCALENDAR
