BEGIN:VCALENDAR
VERSION:2.0
PRODID:-//ChamberMaster//Event Calendar 2.0//EN
METHOD:PUBLISH
X-PUBLISHED-TTL:P3D
REFRESH-INTERVAL:P3D
CALSCALE:GREGORIAN
BEGIN:VEVENT
DTSTART:20201002T000000Z
DTEND:20201002T013000Z
X-MICROSOFT-CDO-ALLDAYEVENT:FALSE
SUMMARY:Tech Talk + Happy Hour
DESCRIPTION:Tech Talk + Happy Hour is your chance to mingle with the Valley?s best business\, tech\, and education communities. GWATA hosts this free event the first Thursday of every month. Come grab a beer\, talk tech\, and make great connections! Beers For Scholarships This year at Tech Talk we are selling beer for $5 (legally\, in order to market this event to the public\, we must charge for beer). The upside? 50% of all proceeds will go directly into our 2020 STEM Scholarship fund. That?s right\, your tasty\, cold beer will help support community members! Thank you to February?s Tech Talk Sponsor: code.org We are celebrating computer science education and careers this month! Thanks to code.org?s support all teachers and Hour of Code volunteers will receive a free drink.
X-ALT-DESC;FMTTYPE=text/html:Tech Talk + Happy Hour is your chance to mingle with the Valley?s best business\, tech\, and education communities. GWATA hosts this free event the first Thursday of every month. Come grab a beer\, talk tech\, and make great connections! Beers For Scholarships This year at Tech Talk we are selling beer for $5 (legally\, in order to market this event to the public\, we must charge for beer). The upside? 50% of all proceeds will go directly into our 2020 STEM Scholarship fund. That?s right\, your tasty\, cold beer will help support community members! Thank you to February?s Tech Talk Sponsor: code.org We are celebrating computer science education and careers this month! Thanks to code.org?s support all teachers and Hour of Code volunteers will receive a free drink.
LOCATION:Mercantile 14 N. Wenatchee Avenue\, Wenatchee
UID:e.289.7660
SEQUENCE:3
DTSTAMP:20260424T154354Z
URL:https://business.wenatchee.org/events/details/tech-talk-happy-hour-10-01-2020-7660
END:VEVENT

END:VCALENDAR
