BEGIN:VCALENDAR
VERSION:2.0
PRODID:-//ChamberMaster//Event Calendar 2.0//EN
METHOD:PUBLISH
X-PUBLISHED-TTL:P3D
REFRESH-INTERVAL:P3D
CALSCALE:GREGORIAN
BEGIN:VEVENT
DTSTART:20190711T233000Z
DTEND:20190712T010000Z
X-MICROSOFT-CDO-ALLDAYEVENT:FALSE
SUMMARY:Tech Talk + Happy Hour
DESCRIPTION:Tech Talk + Happy Hour is your chance to mingle with the Valley's best business\, tech\, and education communities! GWATA hosts this free event the first Thursday of every month at Badger Mountain Brewing. Come grab a beer\, talk tech\, and make great connections! Want to know how to get a beer on us? All members (yes\, that includes you if your company is a member) or first time Tech Talk attendees\, get a beer on us! Every month we invite 2-3 special guests to engage with attendees about their companies\, projects\, or current tech topics. Let us know if you are interested in being a featured guest!
X-ALT-DESC;FMTTYPE=text/html:Tech Talk + Happy Hour is your chance to mingle with the Valley&#39\;s best business\, tech\, and education communities! GWATA hosts this free event the first Thursday of every month at Badger Mountain Brewing. Come grab a beer\, talk tech\, and make great connections! Want to know how to get a beer on us? All members (yes\, that includes you if your company is a member) or first time Tech Talk attendees\, get a beer on us! Every month we invite 2-3 special guests to engage with attendees about their companies\, projects\, or current tech topics. Let us know if you are interested in being a featured guest!
LOCATION:Badger Mountain Brewing 1 Orondo Ave Wenatchee\, WA 98801
UID:e.289.7335
SEQUENCE:3
DTSTAMP:20260425T163000Z
URL:https://business.wenatchee.org/events/details/tech-talk-happy-hour-07-11-2019-7335
END:VEVENT

END:VCALENDAR
