BEGIN:VCALENDAR
VERSION:2.0
PRODID:-//ChamberMaster//Event Calendar 2.0//EN
METHOD:PUBLISH
X-PUBLISHED-TTL:P3D
REFRESH-INTERVAL:P3D
CALSCALE:GREGORIAN
BEGIN:VEVENT
DTSTART:20190606T233000Z
DTEND:20190607T010000Z
X-MICROSOFT-CDO-ALLDAYEVENT:FALSE
SUMMARY:Tech Talk + Happy Hour
DESCRIPTION:Related Events See More Related Events Social Media Workshop Mon\, May 6 at North Central ESD by GWATA Interested   Going Red\, White and Brew 4th of July Beer and Wine Garden Thu\, Jul 4 at Walla Walla Point Park 2 friends are going Interested   Going Live at Farmer's Market Sat\, Sep 14 at Wenatchee Valley Farmers Market 22 guests Interested   Going Science on Tap! Dog Behavior and Cognition 6 PM at Wenatchee River Institute at Barn Beach Reserve 150 guests Interested   Going Wenatchee Pride 2019 | Stonewall 50 Sat\, Jun 15 at Lincoln Park 1410 Mission Street Wenatchee\, WA 98801 867 guests Interested   Going Opening Day Sat\, May 11 at Wenatchee Valley Farmers Market 2 friends are going Interested   Going English (US)   Espa ol   Portugu s (Brasil)   Fran ais (France)   Deutsch Privacy   Terms   Advertising   Ad Choices   Cookies   More Facebook   2019 GWATA's photo. Tech Talk + Happy Hour Public   9 instances   90 people   by GWATA Select a date and time THU\, JUN 6 4:30 PM THU\, JUL 11 4:30 PM THU\, SEP 5 4:30 PM +6 GoingShare friend_friends 9 going or interested including Jenny and Sue Message clock Thursday\, June 6\, 2019 at 4:30 PM   6 PM pin Badger Mountain Brewing 1 Orondo Ave\, Wenatchee\, Washington 98801 Show Map Hosted by GWATA Typically replies within a few hours Message Host About Discussion 90 InterestedSee All Jenny\, Becca and Sue are interested Share Details Tech Talk + Happy Hour is your chance to mingle with the Valley's best business\, tech\, and education communities! GWATA hosts this free event the first Thursday of every month at Badger Mountain Brewing. Come grab a beer\, talk tech\, and make great connections! Want to know how to get a beer on us? All members (yes\, that includes you if your company is a member) or first time Tech Talk attendees\, get a beer on us! Every month we invite 2-3 special guests to engage with attendees about their companies\, projects\, or current tech topics. Let us know if you are interested in being a featured guest!
X-ALT-DESC;FMTTYPE=text/html:Related Events See More Related Events Social Media Workshop Mon\, May 6 at North Central ESD by GWATA Interested &middot\; Going Red\, White and Brew 4th of July Beer and Wine Garden Thu\, Jul 4 at Walla Walla Point Park 2 friends are going Interested &middot\; Going Live at Farmer&#39\;s Market Sat\, Sep 14 at Wenatchee Valley Farmers Market 22 guests Interested &middot\; Going Science on Tap! Dog Behavior and Cognition 6 PM at Wenatchee River Institute at Barn Beach Reserve 150 guests Interested &middot\; Going Wenatchee Pride 2019 | Stonewall 50 Sat\, Jun 15 at Lincoln Park 1410 Mission Street Wenatchee\, WA 98801 867 guests Interested &middot\; Going Opening Day Sat\, May 11 at Wenatchee Valley Farmers Market 2 friends are going Interested &middot\; Going English (US) &middot\; Espa&ntilde\;ol &middot\; Portugu&ecirc\;s (Brasil) &middot\; Fran&ccedil\;ais (France) &middot\; Deutsch Privacy &middot\; Terms &middot\; Advertising &middot\; Ad Choices &middot\; Cookies &middot\; More Facebook &copy\; 2019 GWATA&#39\;s photo. Tech Talk + Happy Hour Public &middot\; 9 instances &middot\; 90 people &middot\; by GWATA Select a date and time THU\, JUN 6 4:30 PM THU\, JUL 11 4:30 PM THU\, SEP 5 4:30 PM +6 GoingShare friend_friends 9 going or interested including Jenny and Sue Message clock Thursday\, June 6\, 2019 at 4:30 PM &ndash\; 6 PM pin Badger Mountain Brewing 1 Orondo Ave\, Wenatchee\, Washington 98801 Show Map Hosted by GWATA Typically replies within a few hours Message Host About Discussion 90 InterestedSee All Jenny\, Becca and Sue are interested Share Details Tech Talk + Happy Hour is your chance to mingle with the Valley&#39\;s best business\, tech\, and education communities! GWATA hosts this free event the first Thursday of every month at Badger Mountain Brewing. Come grab a beer\, talk tech\, and make great connections! Want to know how to get a beer on us? All members (yes\, that includes you if your company is a member) or first time Tech Talk attendees\, get a beer on us! Every month we invite 2-3 special guests to engage with attendees about their companies\, projects\, or current tech topics. Let us know if you are interested in being a featured guest!
LOCATION:Badger Mountain Brewing 1 Orondo Ave Wenatchee\, WA 98801
UID:e.289.7291
SEQUENCE:3
DTSTAMP:20260425T180942Z
URL:https://business.wenatchee.org/events/details/tech-talk-happy-hour-06-06-2019-7291
END:VEVENT

END:VCALENDAR
