BEGIN:VCALENDAR
VERSION:2.0
PRODID:-//ChamberMaster//Event Calendar 2.0//EN
METHOD:PUBLISH
X-PUBLISHED-TTL:P3D
REFRESH-INTERVAL:P3D
CALSCALE:GREGORIAN
BEGIN:VEVENT
DTSTART:20190404T233000Z
DTEND:20190405T010000Z
X-MICROSOFT-CDO-ALLDAYEVENT:FALSE
SUMMARY:Tech Talk + Happy Hour
DESCRIPTION:Thurs. March 7 | 4:30pm - 6:00pm Badger Mountain Brewing Tech Talk + Happy Hour is your chance to mingle with the Valley's best business\, tech\, and education communities! GWATA hosts this free event the first Thursday of every month at Badger Mountain Brewing. Come grab a beer\, talk tech\, and make great connections! Wanna know how to get a beer on us? All members (yes\, that includes you if your company is a member) or first time Tech Talk attendees\, get a beer on us! Every month we invite 2-3 special guests to engage with attendees about their companies\, projects\, or current tech topics! Interested in being a featured guest? Let us know!
X-ALT-DESC;FMTTYPE=text/html:Thurs. March 7 | 4:30pm - 6:00pm Badger Mountain Brewing Tech Talk + Happy Hour is your chance to mingle with the Valley&rsquo\;s best business\, tech\, and education communities! GWATA hosts this free event the first Thursday of every month at Badger Mountain Brewing. Come grab a beer\, talk tech\, and make great connections! Wanna know how to get a beer on us? All members (yes\, that includes you if your company is a member) or first time Tech Talk attendees\, get a beer on us! Every month we invite 2-3 special guests to engage with attendees about their companies\, projects\, or current tech topics! Interested in being a featured guest? Let us know!
LOCATION:Badger Mountain Brewing
UID:e.289.7167
SEQUENCE:3
DTSTAMP:20260425T213049Z
URL:https://business.wenatchee.org/events/details/tech-talk-happy-hour-04-04-2019-7167
END:VEVENT

END:VCALENDAR
