BEGIN:VCALENDAR
VERSION:2.0
PRODID:-//ChamberMaster//Event Calendar 2.0//EN
METHOD:PUBLISH
X-PUBLISHED-TTL:P3D
REFRESH-INTERVAL:P3D
CALSCALE:GREGORIAN
BEGIN:VEVENT
DTSTART;VALUE=DATE:20220518
DTEND;VALUE=DATE:20220519
TRANSP:TRANSPARENT
X-MICROSOFT-CDO-ALLDAYEVENT:TRUE
SUMMARY:Sweetheart For Kids
DESCRIPTION:Our North Central Washington region is thrilled to launch the 2022 SweetHeart for Kids giving event!\n\nThe SweetHeart for Kids giving event will provide donors with the opportunity to come together and raise funding to support essential programming for the children and families in Wenatchee and the North Central Washington region at a time when help is needed more than ever.\n\nYour donation to our SweetHeart for Kids virtual giving event will provide critical support for essential programs to help our most vulnerable populations   families impacted by job loss and illness who are now facing even greater food insecurity and homelessness risks\, children and adults in need of behavioral health services\, and those in need of technology services to continue succeeding in school and work.  \n\nEnjoy inspiring videos showcasing the impact of all our programs on our Facebook page.\n\nThank you for your continued support and passion for all children and families in need.\n\n\n\nhttps://donate.onecause.com/shfk-wenatchee
X-ALT-DESC;FMTTYPE=text/html:<p style="box-sizing: border-box\; margin: 0px 0px 10px\; -webkit-font-smoothing: antialiased\; font-size: 16px\; line-height: 1.5\; font-family: &quot\;Open Sans&quot\;\, &quot\;Helvetica Neue&quot\;\, Arial\, sans-serif\;"><span style="box-sizing: border-box\; font-size: 12pt\;">Our North Central Washington region is thrilled to launch the 2022&nbsp\;<span style="box-sizing: border-box\; font-weight: 700\;"><i style="box-sizing: border-box\;">SweetHeart for Kids</i></span>&nbsp\;giving event!</span></p>\n\n<p style="box-sizing: border-box\; margin: 0px 0px 10px\; -webkit-font-smoothing: antialiased\; font-size: 16px\; line-height: 1.5\; font-family: &quot\;Open Sans&quot\;\, &quot\;Helvetica Neue&quot\;\, Arial\, sans-serif\;"><span style="box-sizing: border-box\; font-size: 12pt\;">The&nbsp\;<span style="box-sizing: border-box\; font-weight: 700\;"><i style="box-sizing: border-box\;">SweetHeart for Kids</i></span>&nbsp\;giving event will provide donors with the opportunity to come together and raise funding to support essential programming for the children and families in Wenatchee and the North Central Washington region at a time when help is needed more than ever.</span></p>\n\n<p style="box-sizing: border-box\; margin: 0px 0px 10px\; -webkit-font-smoothing: antialiased\; font-size: 16px\; line-height: 1.5\; font-family: &quot\;Open Sans&quot\;\, &quot\;Helvetica Neue&quot\;\, Arial\, sans-serif\;">Your donation to our&nbsp\;<span style="box-sizing: border-box\; font-weight: 700\;"><i style="box-sizing: border-box\;">SweetHeart for Kids</i></span>&nbsp\;virtual giving event will provide critical support for essential programs to help&nbsp\;<span style="box-sizing: border-box\; font-weight: 700\;">our most vulnerable populations</span>&nbsp\;&ndash\; families impacted by job loss and illness who are now facing even greater food insecurity and homelessness risks\, children and adults in need of behavioral health services\, and those in need of technology services to continue succeeding in school and work.&nbsp\;&nbsp\;</p>\n\n<p style="box-sizing: border-box\; margin: 0px 0px 10px\; -webkit-font-smoothing: antialiased\; font-size: 16px\; line-height: 1.5\; font-family: &quot\;Open Sans&quot\;\, &quot\;Helvetica Neue&quot\;\, Arial\, sans-serif\;">Enjoy inspiring videos showcasing the impact of all our programs on our&nbsp\;<a href="https://www.facebook.com/ChildrensHomeSocietyWenatchee" style="box-sizing: border-box\; background-color: transparent\; color: rgb(44\, 168\, 255)\; text-decoration-line: none\; -webkit-font-smoothing: antialiased\;" target="">Facebook page</a>.</p>\n\n<p style="box-sizing: border-box\; margin: 0px 0px 10px\; -webkit-font-smoothing: antialiased\; font-size: 16px\; line-height: 1.5\; font-family: &quot\;Open Sans&quot\;\, &quot\;Helvetica Neue&quot\;\, Arial\, sans-serif\;">Thank you for your continued support and passion for all children and families in need.<br />\n<br />\nhttps://donate.onecause.com/shfk-wenatchee</p>\n
LOCATION:Virtual
UID:e.289.8065
SEQUENCE:3
DTSTAMP:20260425T134453Z
URL:https://business.wenatchee.org/events/details/sweetheart-for-kids-8065
END:VEVENT

END:VCALENDAR
