BEGIN:VCALENDAR
VERSION:2.0
PRODID:-//ChamberMaster//Event Calendar 2.0//EN
METHOD:PUBLISH
X-PUBLISHED-TTL:P3D
REFRESH-INTERVAL:P3D
CALSCALE:GREGORIAN
BEGIN:VEVENT
DTSTART:20190420T170000Z
DTEND:20190420T210000Z
X-MICROSOFT-CDO-ALLDAYEVENT:FALSE
SUMMARY:Sustainable Wenatchee Earth Day Fair
DESCRIPTION:Join us at the Pybus Market Event Center to celebrate our planet and learn about how to protect it! Featuring nearly 20 educational and interactive booths from a variety of local organizations and fun kid's activities. Learn about the NCW EcoChallenge and get registered. Screen-print a "There is No Planet B" Saddle Rock tee-shirt - bring your own to screen-print or buy a new eco-friendly shirt. Hosted by Sustainable Wenatchee. Sponsored by Chelan PUD\, Link Transit and Printmade Apparel.
X-ALT-DESC;FMTTYPE=text/html:Join us at the Pybus Market Event Center to celebrate our planet and learn about how to protect it! Featuring nearly 20 educational and interactive booths from a variety of local organizations and fun kid&#39\;s activities. Learn about the NCW EcoChallenge and get registered. Screen-print a &quot\;There is No Planet B&quot\; Saddle Rock tee-shirt - bring your own to screen-print or buy a new eco-friendly shirt. Hosted by Sustainable Wenatchee. Sponsored by Chelan PUD\, Link Transit and Printmade Apparel.
LOCATION:Pybus Market Event Center & Patio
UID:e.289.7229
SEQUENCE:3
DTSTAMP:20260425T214314Z
URL:https://business.wenatchee.org/events/details/sustainable-wenatchee-earth-day-fair-04-20-2019-7229
END:VEVENT

END:VCALENDAR
