BEGIN:VCALENDAR
VERSION:2.0
PRODID:-//ChamberMaster//Event Calendar 2.0//EN
METHOD:PUBLISH
X-PUBLISHED-TTL:P3D
REFRESH-INTERVAL:P3D
CALSCALE:GREGORIAN
BEGIN:VEVENT
DTSTART:20200901T220000Z
DTEND:20200901T230000Z
X-MICROSOFT-CDO-ALLDAYEVENT:FALSE
SUMMARY:Survival Guide for Food Service Operations
DESCRIPTION:Register at https://wsbdc.ecenterdirect.com/events/99271161\n\nHow are successful food service businesses pivoting to survive the current times?\n\nThis webinar will give the food service manager ideas on how to adapt their business to deal with an ever-changing environment because of COVID-19. The discussion includes adapting and innovating how food service operations do business.\n\nWe will look at what others in the industry are doing to capture new markets and ways of doing business.\n\nWe will also discuss the managers/owner's responsibility to monitor the financial health of the company.\n\nLastly\, are you ready for a new normal?\n\nThis webinar will be presented by John Morosco. \n\nJohn Morosco is a Washington SBDC Certified Business Advisor. He has extensive experience managing restaurants\, hotels\, assisted living facilities\, and skilled nursing facilities. He owned an Italian restaurant.\n\nJohn taught hospitality and business courses at the University of the Virgin Islands\, where he was an assistant professor. John holds a Bachelor of Science in Hotel\, Restaurant\, and Tourism from Florida International University and a Master of Public Administration in Long-Term Care from the University of New Haven. See more about John here https://wsbdc.org/wenatchee-john-morosco/
X-ALT-DESC;FMTTYPE=text/html:&#8203\;\n<p style="box-sizing: border-box\; margin: 0px 0px 10px\; padding: 0px\; border: 0px rgb(225\, 225\, 225)\; font-variant-numeric: inherit\; font-variant-east-asian: inherit\; font-stretch: inherit\; line-height: 1.7\; font-family: &quot\;open sans&quot\;\, HelveticaNeue\, &quot\;Helvetica Neue&quot\;\, Helvetica-Neue\, Helvetica\, Arial\, sans-serif\; vertical-align: baseline\; color: rgb(102\, 102\, 102)\;">Register at&nbsp\;<a href="https://wsbdc.ecenterdirect.com/events/99271161" style="box-sizing: border-box\; margin: 0px\; padding: 0px\; border: 0px rgb(225\, 225\, 225)\; font: inherit\; vertical-align: baseline\; text-decoration-line: none\; outline: 0px\; max-width: 100%\; color: rgb(0\, 46\, 98)\;">https://wsbdc.ecenterdirect.com/events/99271161</a></p>\n\n<p style="box-sizing: border-box\; margin: 0px 0px 10px\; padding: 0px\; border: 0px rgb(225\, 225\, 225)\; font-variant-numeric: inherit\; font-variant-east-asian: inherit\; font-stretch: inherit\; line-height: 1.7\; font-family: &quot\;open sans&quot\;\, HelveticaNeue\, &quot\;Helvetica Neue&quot\;\, Helvetica-Neue\, Helvetica\, Arial\, sans-serif\; vertical-align: baseline\; color: rgb(102\, 102\, 102)\;">How are successful food service businesses pivoting to survive the current times?</p>\n\n<p style="box-sizing: border-box\; margin: 0px 0px 10px\; padding: 0px\; border: 0px rgb(225\, 225\, 225)\; font-variant-numeric: inherit\; font-variant-east-asian: inherit\; font-stretch: inherit\; line-height: 1.7\; font-family: &quot\;open sans&quot\;\, HelveticaNeue\, &quot\;Helvetica Neue&quot\;\, Helvetica-Neue\, Helvetica\, Arial\, sans-serif\; vertical-align: baseline\; color: rgb(102\, 102\, 102)\;">This webinar will give the food service manager ideas on how to adapt their business to deal with an ever-changing environment because of COVID-19. The discussion includes adapting and innovating how food service operations do business.</p>\n\n<p style="box-sizing: border-box\; margin: 0px 0px 10px\; padding: 0px\; border: 0px rgb(225\, 225\, 225)\; font-variant-numeric: inherit\; font-variant-east-asian: inherit\; font-stretch: inherit\; line-height: 1.7\; font-family: &quot\;open sans&quot\;\, HelveticaNeue\, &quot\;Helvetica Neue&quot\;\, Helvetica-Neue\, Helvetica\, Arial\, sans-serif\; vertical-align: baseline\; color: rgb(102\, 102\, 102)\;">We will look at what others in the industry are doing to capture new markets and ways of doing business.</p>\n\n<p style="box-sizing: border-box\; margin: 0px 0px 10px\; padding: 0px\; border: 0px rgb(225\, 225\, 225)\; font-variant-numeric: inherit\; font-variant-east-asian: inherit\; font-stretch: inherit\; line-height: 1.7\; font-family: &quot\;open sans&quot\;\, HelveticaNeue\, &quot\;Helvetica Neue&quot\;\, Helvetica-Neue\, Helvetica\, Arial\, sans-serif\; vertical-align: baseline\; color: rgb(102\, 102\, 102)\;">We will also discuss the managers/owner&rsquo\;s responsibility to monitor the financial health of the company.</p>\n\n<p style="box-sizing: border-box\; margin: 0px 0px 10px\; padding: 0px\; border: 0px rgb(225\, 225\, 225)\; font-variant-numeric: inherit\; font-variant-east-asian: inherit\; font-stretch: inherit\; line-height: 1.7\; font-family: &quot\;open sans&quot\;\, HelveticaNeue\, &quot\;Helvetica Neue&quot\;\, Helvetica-Neue\, Helvetica\, Arial\, sans-serif\; vertical-align: baseline\; color: rgb(102\, 102\, 102)\;">Lastly\, are you ready for a new normal?</p>\n\n<p style="box-sizing: border-box\; margin: 0px 0px 10px\; padding: 0px\; border: 0px rgb(225\, 225\, 225)\; font-variant-numeric: inherit\; font-variant-east-asian: inherit\; font-stretch: inherit\; line-height: 1.7\; font-family: &quot\;open sans&quot\;\, HelveticaNeue\, &quot\;Helvetica Neue&quot\;\, Helvetica-Neue\, Helvetica\, Arial\, sans-serif\; vertical-align: baseline\; color: rgb(102\, 102\, 102)\;"><em style="box-sizing: border-box\; margin: 0px\; padding: 0px\; border: 0px rgb(225\, 225\, 225)\; font-variant: inherit\; font-weight: inherit\; font-stretch: inherit\; font-size: inherit\; line-height: inherit\; font-family: inherit\; vertical-align: baseline\;">This webinar will be presented by John Morosco.&nbsp\;</em></p>\n\n<p style="box-sizing: border-box\; margin: 0px 0px 10px\; padding: 0px\; border: 0px rgb(225\, 225\, 225)\; font-variant-numeric: inherit\; font-variant-east-asian: inherit\; font-stretch: inherit\; line-height: 1.7\; font-family: &quot\;open sans&quot\;\, HelveticaNeue\, &quot\;Helvetica Neue&quot\;\, Helvetica-Neue\, Helvetica\, Arial\, sans-serif\; vertical-align: baseline\; color: rgb(102\, 102\, 102)\;"><em style="box-sizing: border-box\; margin: 0px\; padding: 0px\; border: 0px rgb(225\, 225\, 225)\; font-variant: inherit\; font-weight: inherit\; font-stretch: inherit\; font-size: inherit\; line-height: inherit\; font-family: inherit\; vertical-align: baseline\;">John Morosco is a Washington SBDC Certified Business Advisor. He has extensive experience managing restaurants\, hotels\, assisted living facilities\, and skilled nursing facilities. He owned an Italian restaurant.</em></p>\n\n<p style="box-sizing: border-box\; margin: 0px 0px 10px\; padding: 0px\; border: 0px rgb(225\, 225\, 225)\; font-variant-numeric: inherit\; font-variant-east-asian: inherit\; font-stretch: inherit\; line-height: 1.7\; font-family: &quot\;open sans&quot\;\, HelveticaNeue\, &quot\;Helvetica Neue&quot\;\, Helvetica-Neue\, Helvetica\, Arial\, sans-serif\; vertical-align: baseline\; color: rgb(102\, 102\, 102)\;"><em style="box-sizing: border-box\; margin: 0px\; padding: 0px\; border: 0px rgb(225\, 225\, 225)\; font-variant: inherit\; font-weight: inherit\; font-stretch: inherit\; font-size: inherit\; line-height: inherit\; font-family: inherit\; vertical-align: baseline\;">John taught hospitality and business courses at the University of the Virgin Islands\, where he was an assistant professor. John holds a Bachelor of Science in Hotel\, Restaurant\, and Tourism from Florida International University and a Master of Public Administration in Long-Term Care from the University of New Haven. See more about John here&nbsp\;<a href="https://wsbdc.org/wenatchee-john-morosco/" style="box-sizing: border-box\; margin: 0px\; padding: 0px\; border: 0px rgb(225\, 225\, 225)\; font: inherit\; vertical-align: baseline\; text-decoration-line: none\; outline: 0px\; max-width: 100%\; color: rgb(0\, 46\, 98)\;">https://wsbdc.org/wenatchee-john-morosco/</a></em></p>\n
LOCATION:Online Event
UID:e.289.7738
SEQUENCE:3
DTSTAMP:20260424T190533Z
URL:https://business.wenatchee.org/events/details/survival-guide-for-food-service-operations-7738
END:VEVENT

END:VCALENDAR
