BEGIN:VCALENDAR
VERSION:2.0
PRODID:-//ChamberMaster//Event Calendar 2.0//EN
METHOD:PUBLISH
X-PUBLISHED-TTL:P3D
REFRESH-INTERVAL:P3D
CALSCALE:GREGORIAN
BEGIN:VEVENT
DTSTART:20191113T003000Z
DTEND:20191113T013000Z
X-MICROSOFT-CDO-ALLDAYEVENT:FALSE
SUMMARY:Supernova Business Launch Competition - Official Announcement
DESCRIPTION:The mission of the Supernova Business Launch Competition is to grow small businesses in North Central Washington that will create needed jobs for underemployed residents while strategically addressing social determinants of health. We cordially invite everyone to join us on Tuesday the 12th of November\, 2019\, starting at 4:30 PM\, at the Hilton Garden Inn Wenatchee for the official announcement of Supernova. Come and meet some of our amazing partners\, learn how to participate in Supernova\, how to become a sponsor\, and how the competition will unfold over the coming months. Afterwards\, plan to kick-off your weekend with the NCWEDD for cocktails and dinner at the Garden Grill and Bar located inside the Hilton Garden Inn. Dinner is optional and is self-pay.
X-ALT-DESC;FMTTYPE=text/html:The mission of the Supernova Business Launch Competition is to grow small businesses in North Central Washington that will create needed jobs for underemployed residents while strategically addressing social determinants of health. We cordially invite everyone to join us on Tuesday the 12th of November\, 2019\, starting at 4:30 PM\, at the Hilton Garden Inn Wenatchee for the official announcement of Supernova. Come and meet some of our amazing partners\, learn how to participate in Supernova\, how to become a sponsor\, and how the competition will unfold over the coming months. Afterwards\, plan to kick-off your weekend with the NCWEDD for cocktails and dinner at the Garden Grill and Bar located inside the Hilton Garden Inn. Dinner is optional and is self-pay.
LOCATION:Hilton Garden Inn Wenatchee 25 N Worthen St\, Wenatchee\, WA 98801
UID:e.289.7513
SEQUENCE:3
DTSTAMP:20260425T120619Z
URL:https://business.wenatchee.org/events/details/supernova-business-launch-competition-official-announcement-7513
END:VEVENT

END:VCALENDAR
