BEGIN:VCALENDAR
VERSION:2.0
PRODID:-//ChamberMaster//Event Calendar 2.0//EN
METHOD:PUBLISH
X-PUBLISHED-TTL:P3D
REFRESH-INTERVAL:P3D
CALSCALE:GREGORIAN
BEGIN:VEVENT
DTSTART:20210726T160000Z
DTEND:20210730T223000Z
X-MICROSOFT-CDO-ALLDAYEVENT:FALSE
SUMMARY:Super Summer Adventure Camps: Session 5
DESCRIPTION:Join us for a week of Rockets and Robots at our Super Summer Adventure Camps. We offer weekly enrichment classes for kids with a wide variety of classes for students entering K-6 grades in the Fall of 2021. Grades K-1: Pop\, Fizz\, Bang 9 AM   12 PM Come and make some noise with us as we explode\, sparkle\, and whoosh our way through space! Join us as we make rockets and robots that are out of this world! Grades 2-3: Robots Save the Day 9:00 AM   3:30 PM Engineering is the application of math and science to solve problems! During this one-week mission\, explore ways to apply your problem-solving skills to various hands-on challenges related to science and space exploration. Acquire knowledge about robots with fellow crew members and engage in hands-on activities to help distinguish between robots and non-robots. Grades 4-6: Robotics Challenge 9:00 AM   3:30 PM Stretch your creativity with this camp about robots! Learn how to build a scribble bot for those days when you want to color\, but would rather have a robot color for you. We will also learn about the robots that help build rockets\, and build a stomp rocket of our own!
X-ALT-DESC;FMTTYPE=text/html:Join us for a week of Rockets and Robots at our Super Summer Adventure Camps. We offer weekly enrichment classes for kids with a wide variety of classes for students entering K-6 grades in the Fall of 2021. Grades K-1: Pop\, Fizz\, Bang 9 AM &ndash\; 12 PM Come and make some noise with us as we explode\, sparkle\, and whoosh our way through space! Join us as we make rockets and robots that are out of this world! Grades 2-3: Robots Save the Day 9:00 AM &ndash\; 3:30 PM Engineering is the application of math and science to solve problems! During this one-week mission\, explore ways to apply your problem-solving skills to various hands-on challenges related to science and space exploration. Acquire knowledge about robots with fellow crew members and engage in hands-on activities to help distinguish between robots and non-robots. Grades 4-6: Robotics Challenge 9:00 AM &ndash\; 3:30 PM Stretch your creativity with this camp about robots! Learn how to build a scribble bot for those days when you want to color\, but would rather have a robot color for you. We will also learn about the robots that help build rockets\, and build a stomp rocket of our own!
LOCATION:Wenatchee Valley Museum & Cultural Center 127 South Mission St.\, Wenatchee\, WA 98801
UID:e.289.7863
SEQUENCE:3
DTSTAMP:20260424T103435Z
URL:https://business.wenatchee.org/events/details/super-summer-adventure-camps-session-5-7863
END:VEVENT

END:VCALENDAR
