BEGIN:VCALENDAR
VERSION:2.0
PRODID:-//ChamberMaster//Event Calendar 2.0//EN
METHOD:PUBLISH
X-PUBLISHED-TTL:P3D
REFRESH-INTERVAL:P3D
CALSCALE:GREGORIAN
BEGIN:VEVENT
DTSTART:20210719T160000Z
DTEND:20210723T223000Z
X-MICROSOFT-CDO-ALLDAYEVENT:FALSE
SUMMARY:Super Summer Adventure Camps: Session 4
DESCRIPTION:Join us for a week of Inventions at our Super Summer Adventure Camps. We offer weekly enrichment classes for kids with a wide variety of classes for students entering K-6 grades in the Fall of 2021. Grades K-1: Imagineers 9 AM   12 PM Use your imagination and experiment with wire\, gears\, and wheels to create whirling\, twirling masterpieces of design. Master some basic tools and take home your inventions at the end of the week. Grades 2-3: Invention Convention 9:00 AM   3:30 PM Campers will work together to use their imagination\, creativity\, ingenuity and teamwork to engineer solutions to problems\, create sculptures\, or build functioning machines. What will you invent? Grades 4-6: Inventors Workshop 9:00 AM   3:30 PM What kinds of "machines" were built before robots were invented? Join us for a week of wind up creations\, automatons\, dancing bots\, and hydraulic arms. We'll explore the best (and worst!) of some famous inventions including those of Benjamin Franklin\, Leonardo Da Vinci\, and many more!
X-ALT-DESC;FMTTYPE=text/html:Join us for a week of Inventions at our Super Summer Adventure Camps. We offer weekly enrichment classes for kids with a wide variety of classes for students entering K-6 grades in the Fall of 2021. Grades K-1: Imagineers 9 AM &ndash\; 12 PM Use your imagination and experiment with wire\, gears\, and wheels to create whirling\, twirling masterpieces of design. Master some basic tools and take home your inventions at the end of the week. Grades 2-3: Invention Convention 9:00 AM &ndash\; 3:30 PM Campers will work together to use their imagination\, creativity\, ingenuity and teamwork to engineer solutions to problems\, create sculptures\, or build functioning machines. What will you invent? Grades 4-6: Inventors Workshop 9:00 AM &ndash\; 3:30 PM What kinds of &ldquo\;machines&rdquo\; were built before robots were invented? Join us for a week of wind up creations\, automatons\, dancing bots\, and hydraulic arms. We&rsquo\;ll explore the best (and worst!) of some famous inventions including those of Benjamin Franklin\, Leonardo Da Vinci\, and many more!
LOCATION:Wenatchee Valley Museum & Cultural Center 127 S. Mission St.\, Wenatchee\, WA 98801
UID:e.289.7860
SEQUENCE:3
DTSTAMP:20260424T103329Z
URL:https://business.wenatchee.org/events/details/super-summer-adventure-camps-session-4-7860
END:VEVENT

END:VCALENDAR
