BEGIN:VCALENDAR
VERSION:2.0
PRODID:-//ChamberMaster//Event Calendar 2.0//EN
METHOD:PUBLISH
X-PUBLISHED-TTL:P3D
REFRESH-INTERVAL:P3D
CALSCALE:GREGORIAN
BEGIN:VEVENT
DTSTART:20190203T180000Z
DTEND:20190203T220000Z
X-MICROSOFT-CDO-ALLDAYEVENT:FALSE
SUMMARY:Sunday Brunch at Karma Vineyards
DESCRIPTION:Champagne Brunch at Karma\n\nSundays 10-2PM\n\nBeginning Nov 11\, 2018\n\nWhat better way to start your Sunday mornings than with a little bubbly and Brunch!\n\nJoin Karma Vineyards in the warm and stunning ambiance of our wine cave.\n\nYou'll receive your choice of one of the following \n\nSignature Mimosas (changing weekly)\n\nBloody Caesar\, Bloody Mary\n\nIrish /Spanish Coffee\n\nPlus a brunch buffet with rotating features each week!\n\nHere's a sneak peek!!\n\nHand made breads \, croissants\, and cinnamon rolls\n\nSeasonal quiches\, eggs dishes\, and casseroles\n\nPecan bacon\, country sausage\, and ham\n\nKarma signature hash browns\n\nGourmet cheeses and meats\n\nCoffee\, tea\, and juices\n\nAnd more!!!\n\nPrice: $29.99 (includes first brunch cocktail ) + tax and gratuity\n\nReservations highly encouraged\n\nPlease call 509-682-5538 or email info@goodkarmawines.com\n\n***Note: Karma will serve a limited regular menu 11-3 on Sundays***
X-ALT-DESC;FMTTYPE=text/html:<h1 style="box-sizing: border-box\; font-size: 41px\; margin: 30px 0px 15px\; font-family: Lora\; line-height: normal\; color: rgb(30\, 30\, 30)\; clear: both\; background-color: rgb(247\, 239\, 228)\; text-align: center\;"><strong style="box-sizing: border-box\; margin-bottom: 0px\;">Champagne Brunch at Karma</strong></h1>\n\n<h2 style="box-sizing: border-box\; font-family: Lora\; line-height: normal\; color: rgb(30\, 30\, 30)\; margin-top: 30px\; margin-bottom: 15px\; font-size: 34px\; clear: both\; background-color: rgb(247\, 239\, 228)\; text-align: center\;">Sundays 10-2PM<br style="box-sizing: border-box\; margin-bottom: 0px\;" />\nBeginning Nov 11\, 2018</h2>\n\n<h4 style="box-sizing: border-box\; font-family: Lora\; line-height: normal\; color: rgb(30\, 30\, 30)\; margin-top: 15px\; margin-bottom: 15px\; font-size: 20px\; clear: both\; background-color: rgb(247\, 239\, 228)\; text-align: center\;"><span style="box-sizing: border-box\;">What better way to start your Sunday mornings than with a little bubbly and Brunch!</span><br style="box-sizing: border-box\; margin-bottom: 0px\;" />\n<span style="box-sizing: border-box\; margin-bottom: 0px\;">Join Karma Vineyards in the warm and stunning ambiance of our wine cave.</span></h4>\n\n<p style="box-sizing: border-box\; margin: 0px 0px 15px\; color: rgb(30\, 30\, 30)\; font-family: Lato\; font-size: 16px\; background-color: rgb(247\, 239\, 228)\; text-align: center\;"><b style="box-sizing: border-box\;">You&rsquo\;ll receive your choice of&nbsp\;</b><b style="box-sizing: border-box\;"><i style="box-sizing: border-box\; margin-bottom: 0px\;">one</i></b><b style="box-sizing: border-box\; margin-bottom: 0px\;">&nbsp\;of the following&hellip\;</b></p>\n\n<p style="box-sizing: border-box\; margin: 0px 0px 15px\; color: rgb(30\, 30\, 30)\; font-family: Lato\; font-size: 16px\; background-color: rgb(247\, 239\, 228)\; text-align: center\;"><span style="box-sizing: border-box\;">Signature Mimosas (changing weekly)</span><br style="box-sizing: border-box\; margin-bottom: 0px\;" />\n<span style="box-sizing: border-box\;">Bloody Caesar\, Bloody Mary</span><br style="box-sizing: border-box\; margin-bottom: 0px\;" />\n<span style="box-sizing: border-box\; margin-bottom: 0px\;">Irish /Spanish Coffee</span></p>\n\n<p style="box-sizing: border-box\; margin: 0px 0px 15px\; color: rgb(30\, 30\, 30)\; font-family: Lato\; font-size: 16px\; background-color: rgb(247\, 239\, 228)\; text-align: center\;"><b style="box-sizing: border-box\;"><i style="box-sizing: border-box\; margin-bottom: 0px\;">Plus a brunch buffet with rotating features each week</i></b><b style="box-sizing: border-box\;">!</b><br style="box-sizing: border-box\; margin-bottom: 0px\;" />\n<span style="box-sizing: border-box\; margin-bottom: 0px\;">Here&rsquo\;s a sneak peek!!</span></p>\n\n<p style="box-sizing: border-box\; margin: 0px 0px 15px\; color: rgb(30\, 30\, 30)\; font-family: Lato\; font-size: 16px\; background-color: rgb(247\, 239\, 228)\; text-align: center\;"><span style="box-sizing: border-box\;">Hand made breads \, croissants\, and cinnamon rolls</span><br style="box-sizing: border-box\; margin-bottom: 0px\;" />\n<span style="box-sizing: border-box\;">Seasonal quiches\, eggs dishes\, and casseroles</span><br style="box-sizing: border-box\; margin-bottom: 0px\;" />\n<span style="box-sizing: border-box\;">Pecan bacon\, country sausage\, and ham</span><br style="box-sizing: border-box\; margin-bottom: 0px\;" />\n<span style="box-sizing: border-box\;">Karma signature hash browns</span><br style="box-sizing: border-box\; margin-bottom: 0px\;" />\n<span style="box-sizing: border-box\;">Gourmet cheeses and meats</span><br style="box-sizing: border-box\; margin-bottom: 0px\;" />\n<span style="box-sizing: border-box\;">Coffee\, tea\, and juices</span><br style="box-sizing: border-box\; margin-bottom: 0px\;" />\n<span style="box-sizing: border-box\; margin-bottom: 0px\;">And more!!!</span></p>\n\n<p style="box-sizing: border-box\; margin: 0px 0px 15px\; color: rgb(30\, 30\, 30)\; font-family: Lato\; font-size: 16px\; background-color: rgb(247\, 239\, 228)\; text-align: center\;"><span style="box-sizing: border-box\; margin-bottom: 0px\;"><strong style="box-sizing: border-box\; margin-bottom: 0px\;">Price:</strong>&nbsp\;$29.99 (includes first brunch cocktail ) + tax and gratuity</span></p>\n\n<p style="box-sizing: border-box\; margin: 0px 0px 15px\; color: rgb(30\, 30\, 30)\; font-family: Lato\; font-size: 16px\; background-color: rgb(247\, 239\, 228)\; text-align: center\;"><b style="box-sizing: border-box\; margin-bottom: 0px\;">Reservations highly encouraged</b></p>\n\n<p style="box-sizing: border-box\; margin: 0px 0px 15px\; color: rgb(30\, 30\, 30)\; font-family: Lato\; font-size: 16px\; background-color: rgb(247\, 239\, 228)\; text-align: center\;"><span style="box-sizing: border-box\;">Please call 509-682-5538 or email&nbsp\;</span><a href="mailto:info@goodkarmawines.com" style="box-sizing: border-box\; background-color: transparent\; color: rgb(206\, 163\, 113)\; text-decoration-line: none\; transition: all 0.2s ease-in-out 0s\; margin-bottom: 0px\;">info@goodkarmawines.com</a></p>\n\n<p style="box-sizing: border-box\; margin: 0px\; color: rgb(30\, 30\, 30)\; font-family: Lato\; font-size: 16px\; background-color: rgb(247\, 239\, 228)\; text-align: center\;"><em style="box-sizing: border-box\; margin-bottom: 0px\;"><span style="box-sizing: border-box\;">***</span><span style="box-sizing: border-box\; margin-bottom: 0px\;">Note: Karma will serve a limited regular menu 11-3 on Sundays***</span></em></p>\n
LOCATION:Karma Vineyards 1681 South Lakeshore Road Chelan\, WA 98816
UID:e.289.7120
SEQUENCE:3
DTSTAMP:20260426T025947Z
URL:https://business.wenatchee.org/events/details/sunday-brunch-at-karma-vineyards-02-03-2019-7120
END:VEVENT

END:VCALENDAR
