BEGIN:VCALENDAR
VERSION:2.0
PRODID:-//ChamberMaster//Event Calendar 2.0//EN
METHOD:PUBLISH
X-PUBLISHED-TTL:P3D
REFRESH-INTERVAL:P3D
CALSCALE:GREGORIAN
BEGIN:VEVENT
DTSTART:20191024T153000Z
DTEND:20191024T190000Z
X-MICROSOFT-CDO-ALLDAYEVENT:FALSE
SUMMARY:Succession Planning
DESCRIPTION:Whether retirement is 30 years away\, just over the horizon or not in your game plan at all\, a succession plan is vital to ensuring the continued success of your business.\n\nA good succession plan can help:\n\n  Transfer ownership when the time comes\n\n  Maintain your lifestyle in retirement\n\n  Provide for your heirs financially\n\n  Prepare the business to handle unexpected events\n\nWhy is a succession plan so important?\n\nLife happens and unless you have a plan to deal with the unexpected\, the business you worked so hard to build could crumble if you become disabled\, die\, get divorced or decide to split with your business partner.\n\nThink of a succession plan as peace of mind for the business\n\nyou've worked so hard to build.
X-ALT-DESC;FMTTYPE=text/html:Whether retirement is 30 years away\, just over the horizon or not in your game plan at all\, a succession plan is vital to ensuring the continued success of your business.<br />\n<strong>A good succession plan can help:<br />\n&bull\;</strong> Transfer ownership when the time comes<br />\n&bull\; Maintain your lifestyle in retirement<br />\n&bull\; Provide for your heirs financially<br />\n&bull\; Prepare the business to handle unexpected events<br />\n<strong>Why is a succession plan so important?</strong><br />\nLife happens&mdash\;and unless you have a plan to deal with the unexpected\, the business you worked so hard to build could crumble if you become disabled\, die\, get divorced or decide to split with your business partner.<br />\nThink of a succession plan as peace of mind for the business<br />\nyou&rsquo\;ve worked so hard to build.
LOCATION:12 Tribes Casino Conference Room 28968 US Highway 97 Omak\, WA 98841
UID:e.289.7472
SEQUENCE:3
DTSTAMP:20260425T115956Z
URL:https://business.wenatchee.org/events/details/succession-planning-7472
END:VEVENT

END:VCALENDAR
