BEGIN:VCALENDAR
VERSION:2.0
PRODID:-//ChamberMaster//Event Calendar 2.0//EN
METHOD:PUBLISH
X-PUBLISHED-TTL:P3D
REFRESH-INTERVAL:P3D
CALSCALE:GREGORIAN
BEGIN:VEVENT
DTSTART:20190829T003000Z
DTEND:20190829T013000Z
X-MICROSOFT-CDO-ALLDAYEVENT:FALSE
SUMMARY:StrongTalk Wenatchee
DESCRIPTION:Come learn about the science behind OsteoStrong and how our system dramatically improves the lives of our members. We have a special "StrongTalk Offer" for those who decide to join at this event. OsteoStrong is for anyone looking to see improvements in: Balance Posture Strength Power Agility Energy Bone Density In just 60 seconds of effort once a week\, our members are currently experiencing amazing results in the areas mentioned above\, sign up fast as space is limited for the event.
X-ALT-DESC;FMTTYPE=text/html:Come learn about the science behind OsteoStrong and how our system dramatically improves the lives of our members. We have a special "StrongTalk Offer" for those who decide to join at this event. OsteoStrong is for anyone looking to see improvements in: Balance Posture Strength Power Agility Energy Bone Density In just 60 seconds of effort once a week\, our members are currently experiencing amazing results in the areas mentioned above\, sign up fast as space is limited for the event.
LOCATION:OsteoStrong Wenatchee
UID:e.289.7404
SEQUENCE:3
DTSTAMP:20260425T145912Z
URL:https://business.wenatchee.org/events/details/strongtalk-wenatchee-08-28-2019-7404
END:VEVENT

END:VCALENDAR
