BEGIN:VCALENDAR
VERSION:2.0
PRODID:-//ChamberMaster//Event Calendar 2.0//EN
METHOD:PUBLISH
X-PUBLISHED-TTL:P3D
REFRESH-INTERVAL:P3D
CALSCALE:GREGORIAN
BEGIN:VEVENT
DTSTART:20190529T010000Z
DTEND:20190529T030000Z
X-MICROSOFT-CDO-ALLDAYEVENT:FALSE
SUMMARY:Stemilt-Squilchuck Recreation Planning Group
DESCRIPTION:You have all been included in recent emails regarding the status of the rec plan\, but I wanted to touch base with the group now that we are nearing completion. Many of you have been involved in this process for nearly 3 years now\, and I want to thank you all again for your help and dedication!\n\n\n\nThe final steps are approaching with the public hearings scheduled for May 28th and June 4th from 6-8pm at the Confluence Technology Center\, and I encourage you to attend and weigh in on the plan that you helped build. I also encourage you to share these dates with your groups or peers that you represented during the planning process.\n\n\n\nThe first hearing will consist of a presentation of the plan to the Commissioners and public comment. The second hearing will include any follow-up and a decision for adoption by the Commissioners.
X-ALT-DESC;FMTTYPE=text/html:You have all been included in recent emails regarding the status of the rec plan\, but I wanted to touch base with the group now that we are nearing completion. Many of you have been involved in this process for nearly 3 years now\, and I want to thank you all again for your help and dedication!<br />\n<br />\nThe final steps are approaching with the public hearings scheduled for <strong>May 28<sup>th</sup> and June 4<sup>th</sup> from 6-8pm at the Confluence Technology Center</strong>\, and I encourage you to attend and weigh in on the plan that you helped build. I also encourage you to share these dates with your groups or peers that you represented during the planning process.<br />\n<br />\nThe first hearing will consist of a presentation of the plan to the Commissioners and public comment. The second hearing will include any follow-up and a decision for adoption by the Commissioners.
LOCATION:Confluence Technology Center
UID:e.289.7310
SEQUENCE:3
DTSTAMP:20260425T200438Z
URL:https://business.wenatchee.org/events/details/stemilt-squilchuck-recreation-planning-group-7310
END:VEVENT

END:VCALENDAR
