BEGIN:VCALENDAR
VERSION:2.0
PRODID:-//ChamberMaster//Event Calendar 2.0//EN
METHOD:PUBLISH
X-PUBLISHED-TTL:P3D
REFRESH-INTERVAL:P3D
CALSCALE:GREGORIAN
BEGIN:VEVENT
DTSTART:20190917T003000Z
DTEND:20190917T033000Z
X-MICROSOFT-CDO-ALLDAYEVENT:FALSE
SUMMARY:Stemilt-Squilchuck Recreation Plan Final Public Hearing
DESCRIPTION:We would like to extend an invitation to attend a final Public Hearing detailing the plan recommendations and the Chelan County Commissioner's suggestions for adoption.
X-ALT-DESC;FMTTYPE=text/html:We would like to extend an invitation to attend a final Public Hearing detailing the plan recommendations and the Chelan County Commissioner&rsquo\;s suggestions for adoption.&nbsp\;
LOCATION:The public hearing will be held at the Confluence Technology Center at 285 Technology Center Way in Wenatchee.
UID:e.289.7427
SEQUENCE:3
DTSTAMP:20260425T132119Z
URL:https://business.wenatchee.org/events/details/stemilt-squilchuck-recreation-plan-final-public-hearing-7427
END:VEVENT

END:VCALENDAR
