BEGIN:VCALENDAR
VERSION:2.0
PRODID:-//ChamberMaster//Event Calendar 2.0//EN
METHOD:PUBLISH
X-PUBLISHED-TTL:P3D
REFRESH-INTERVAL:P3D
CALSCALE:GREGORIAN
BEGIN:VEVENT
DTSTART:20190118T233000Z
DTEND:20190119T010000Z
X-MICROSOFT-CDO-ALLDAYEVENT:FALSE
SUMMARY:STEM Club
DESCRIPTION:Learn how to build and code robots every other Friday after school!\n\n\n\nSpheros Session 1: 1/18\, 2/1\, 2/15\n\nSession 2: 3/1\, 3/15\, 3/29\n\n\n\nWeDo Lego Robotics: Session 1: 4/12\, 4/26\n\nSession 2: 5/10\, 5/24\n\n\n\nMindstorm EV3 Lego Robotocs Session 1: 6/7\, 6/21\, 7/5\n\nSession 2: 7/19\, 8/2\, 8/16\n\n\n\nFor ages 10+. Register at ncrl.org/wenatchee.
X-ALT-DESC;FMTTYPE=text/html:Learn how to build and code robots every other Friday after school!<br />\n<br />\nSpheros Session 1: 1/18\, 2/1\, 2/15<br />\nSession 2: 3/1\, 3/15\, 3/29<br />\n<br />\nWeDo Lego Robotics: Session 1: 4/12\, 4/26<br />\nSession 2: 5/10\, 5/24<br />\n<br />\nMindstorm EV3 Lego Robotocs Session 1: 6/7\, 6/21\, 7/5<br />\nSession 2: 7/19\, 8/2\, 8/16<br />\n<br />\nFor ages 10+. Register at ncrl.org/wenatchee.
LOCATION:Wenatchee Public Library 310 Douglas Street Wenatchee\, WA 98801
UID:e.289.7056
SEQUENCE:3
DTSTAMP:20260426T025352Z
URL:https://business.wenatchee.org/events/details/stem-club-7056
END:VEVENT

END:VCALENDAR
