BEGIN:VCALENDAR
VERSION:2.0
PRODID:-//ChamberMaster//Event Calendar 2.0//EN
METHOD:PUBLISH
X-PUBLISHED-TTL:P3D
REFRESH-INTERVAL:P3D
CALSCALE:GREGORIAN
BEGIN:VEVENT
DTSTART:20210211T160000Z
DTEND:20210211T170000Z
X-MICROSOFT-CDO-ALLDAYEVENT:FALSE
SUMMARY:State of the Region: Cities
DESCRIPTION:Grab a cup of coffee and join us virtually for a conversation with City of East Wenatchee Mayor Jerrilea Crawford and City of Wenatchee Mayor Frank Kuntz on the State of the Region from a Mayoral perspective.\n\n\n\nThis event is made possible by our program sponsor\, Jake Davison - American Family Insurance Agent.\n\n\n\nThis event is FREE\, please register to receive the Zoom link.
X-ALT-DESC;FMTTYPE=text/html:<br />\nGrab a cup of coffee and join us virtually for a conversation with City of East Wenatchee Mayor Jerrilea Crawford and City of Wenatchee Mayor Frank Kuntz on the State of the Region from a Mayoral perspective.<br />\n<br />\nThis event is made possible by our program sponsor\, Jake Davison - American Family Insurance Agent.<br />\n<br />\nThis event is FREE\, please register to receive the Zoom link.
LOCATION:Zoom (register to receive Zoom link)
UID:e.289.7804
SEQUENCE:3
DTSTAMP:20260424T085719Z
URL:https://business.wenatchee.org/events/details/state-of-the-region-cities-7804
END:VEVENT

END:VCALENDAR
