BEGIN:VCALENDAR
VERSION:2.0
PRODID:-//ChamberMaster//Event Calendar 2.0//EN
METHOD:PUBLISH
X-PUBLISHED-TTL:P3D
REFRESH-INTERVAL:P3D
CALSCALE:GREGORIAN
BEGIN:VEVENT
DTSTART:20190404T163000Z
DTEND:20190404T173000Z
X-MICROSOFT-CDO-ALLDAYEVENT:FALSE
SUMMARY:Startup NCW Office Hour
DESCRIPTION:April Focus is Exploring Business Opportunities featuring Wendy DalPez with The Entrepreneur's Source. StartUp NCW Office Hour is a monthly program featuring different professionals each month who are willing to offer an hour to meet with startups and business owners in 15 minute increments. These professional answer basic questions in their area of expertise and share encouragement for the entrepreneur. How it works: Sign up for an appointment slot   Prepare a few questions in advance   Listen and learn from expert in the field Monthly topics include StartUp 101 for the Entrepreneur\, Accounting\, Business Legal Structures\, Marketing\, and more.
X-ALT-DESC;FMTTYPE=text/html:April Focus is Exploring Business Opportunities featuring Wendy DalPez with The Entrepreneur&rsquo\;s Source. StartUp NCW Office Hour is a monthly program featuring different professionals each month who are willing to offer an hour to meet with startups and business owners in 15 minute increments. These professional answer basic questions in their area of expertise and share encouragement for the entrepreneur. How it works: Sign up for an appointment slot &ndash\; Prepare a few questions in advance &ndash\; Listen and learn from expert in the field Monthly topics include StartUp 101 for the Entrepreneur\, Accounting\, Business Legal Structures\, Marketing\, and more.
LOCATION:Mission St Commons 218 S Mission Street Wenatchee\, WA 98801
UID:e.289.7190
SEQUENCE:3
DTSTAMP:20260425T213703Z
URL:https://business.wenatchee.org/events/details/startup-ncw-office-hour-7190
END:VEVENT

END:VCALENDAR
