BEGIN:VCALENDAR
VERSION:2.0
PRODID:-//ChamberMaster//Event Calendar 2.0//EN
METHOD:PUBLISH
X-PUBLISHED-TTL:P3D
REFRESH-INTERVAL:P3D
CALSCALE:GREGORIAN
BEGIN:VEVENT
DTSTART:20190802T010000Z
DTEND:20190802T030000Z
X-MICROSOFT-CDO-ALLDAYEVENT:FALSE
SUMMARY:Starting a Business/Tax Cuts/The Jobs Act
DESCRIPTION:SCORE North Central Washington hosts Ceinwyn Rudnick to answer your questions on building a successful business. \n\nAre the new Tax Cuts and Jobs Act creating a haze over your business? Are you an entrepreneur deciding whether to form an LLC\, C-Corp\, or S-Corp?\n\nCeinwyn is the founder of Veritas Accounting and understands first hand the challenges faced as an entrepreneur and an accountant. \n\nLocation - Pybus Conference Room \nDoors and refreshments at 6:00PM\, lecture begins 6:30PM\n\nPlease RSVP to guarantee seat \n\nSuggested Donation: $15.00
X-ALT-DESC;FMTTYPE=text/html:SCORE North Central Washington hosts Ceinwyn Rudnick to answer your questions on building a successful business. \n\nAre the new Tax Cuts and Jobs Act creating a haze over your business? Are you an entrepreneur deciding whether to form an LLC\, C-Corp\, or S-Corp?\n\nCeinwyn is the founder of Veritas Accounting and understands first hand the challenges faced as an entrepreneur and an accountant. \n\nLocation - Pybus Conference Room \nDoors and refreshments at 6:00PM\, lecture begins 6:30PM\n\nPlease RSVP to guarantee seat \n\nSuggested Donation: $15.00
LOCATION:3 N Worthen St\, Wenatchee\, WA 98801
UID:e.289.7379
SEQUENCE:3
DTSTAMP:20260425T151921Z
URL:https://business.wenatchee.org/events/details/starting-a-business-tax-cuts-the-jobs-act-7379
END:VEVENT

END:VCALENDAR
