BEGIN:VCALENDAR
VERSION:2.0
PRODID:-//ChamberMaster//Event Calendar 2.0//EN
METHOD:PUBLISH
X-PUBLISHED-TTL:P3D
REFRESH-INTERVAL:P3D
CALSCALE:GREGORIAN
BEGIN:VEVENT
DTSTART:20230628T003000Z
DTEND:20230628T030000Z
X-MICROSOFT-CDO-ALLDAYEVENT:FALSE
SUMMARY:Start a Business Workshop- Connect with State Agencies
DESCRIPTION:Whether you are contemplating a business or just starting out\, come to a workshop with business-friendly representatives from the Washington State Departments of Revenue\, Employment Security\, Labor & Industries\, and the Governor's Office of Regulatory Innovation and Assistance. They've teamed up to bring important information to businesses.\n\n\n\nLearn how to:\n\n	Use the Business Licensing Wizard\n	Register with appropriate agencies\n	File and pay your taxes
X-ALT-DESC;FMTTYPE=text/html:Whether you are contemplating a business or just starting out\, come to a workshop with business-friendly representatives from the Washington State Departments of Revenue\, Employment Security\, Labor &amp\; Industries\, and the Governor&rsquo\;s Office of Regulatory Innovation and Assistance. They&rsquo\;ve teamed up to bring important information to businesses.<br />\n<br />\nLearn how to:\n<ul>\n	<li>Use the Business Licensing Wizard</li>\n	<li>Register with appropriate agencies</li>\n	<li>File and pay your taxes</li>\n</ul>\n
LOCATION:LocalTel Event Center in Pybus Public Market
UID:e.289.8539
SEQUENCE:3
DTSTAMP:20260423T010208Z
URL:https://business.wenatchee.org/events/details/start-a-business-workshop-connect-with-state-agencies-8539
END:VEVENT

END:VCALENDAR
