BEGIN:VCALENDAR
VERSION:2.0
PRODID:-//ChamberMaster//Event Calendar 2.0//EN
METHOD:PUBLISH
X-PUBLISHED-TTL:P3D
REFRESH-INTERVAL:P3D
CALSCALE:GREGORIAN
BEGIN:VEVENT
DTSTART:20190907T180000Z
DTEND:20190908T030000Z
X-MICROSOFT-CDO-ALLDAYEVENT:FALSE
SUMMARY:SPORT Classic Golf Tournament
DESCRIPTION:4th Annual SPORT Classic Golf Tournament at Highlander Golf Course. Fundraiser for S.P.O.R.T. Gymnastics. Great prizes including a Helicopter Ball Drop\, $5000 Putting Shootout\, Hole in Ones and more. To register\, go to sportclassicgolf.com
X-ALT-DESC;FMTTYPE=text/html:4th Annual SPORT Classic Golf Tournament at Highlander Golf Course. Fundraiser for S.P.O.R.T. Gymnastics. Great prizes including a Helicopter Ball Drop\, $5000 Putting Shootout\, Hole in Ones and more. To register\, go to sportclassicgolf.com
LOCATION:Highlander Golf Course
UID:e.289.7286
SEQUENCE:3
DTSTAMP:20260425T133512Z
URL:https://business.wenatchee.org/events/details/sport-classic-golf-tournament-7286
END:VEVENT

END:VCALENDAR
