BEGIN:VCALENDAR
VERSION:2.0
PRODID:-//ChamberMaster//Event Calendar 2.0//EN
METHOD:PUBLISH
X-PUBLISHED-TTL:P3D
REFRESH-INTERVAL:P3D
CALSCALE:GREGORIAN
BEGIN:VEVENT
DTSTART:20190506T153000Z
DTEND:20190507T050000Z
X-MICROSOFT-CDO-ALLDAYEVENT:FALSE
SUMMARY:Social Media Workshop Series
DESCRIPTION:GWATA is partnering with Digital Media Northwest to offer this in-depth workshop for local businesses to learn new strategies for their social media marketing. Attendees will learn how to engage with current customers and find new customers online. The three-part series will be taught by Dominick Bonny. This is a great workshop for small business owners\, marketing managers\, staff who handle social media posting\, or any community member interested in learning more about social media strategies for small businesses. This workshop is designed as a series. Registration includes a seat in all three sessions. Each session will build on skills learned in the previous session. Seating is limited. Tickets are $50 for GWATA members and $75 for public. Coffee\, water and a light snack will be provided.
X-ALT-DESC;FMTTYPE=text/html:GWATA is partnering with Digital Media Northwest to offer this in-depth workshop for local businesses to learn new strategies for their social media marketing. Attendees will learn how to engage with current customers and find new customers online. The three-part series will be taught by Dominick Bonny. This is a great workshop for small business owners\, marketing managers\, staff who handle social media posting\, or any community member interested in learning more about social media strategies for small businesses. This workshop is designed as a series. Registration includes a seat in all three sessions. Each session will build on skills learned in the previous session. Seating is limited. Tickets are $50 for GWATA members and $75 for public. Coffee\, water and a light snack will be provided.
LOCATION:North Educational Services 430 Old Station Road Wenatchee\, WA 98801
UID:e.289.7289
SEQUENCE:3
DTSTAMP:20260425T200355Z
URL:https://business.wenatchee.org/events/details/social-media-workshop-series-7289
END:VEVENT

END:VCALENDAR
