BEGIN:VCALENDAR
VERSION:2.0
PRODID:-//ChamberMaster//Event Calendar 2.0//EN
METHOD:PUBLISH
X-PUBLISHED-TTL:P3D
REFRESH-INTERVAL:P3D
CALSCALE:GREGORIAN
BEGIN:VEVENT
DTSTART:20211013T190000Z
DTEND:20211013T200000Z
X-MICROSOFT-CDO-ALLDAYEVENT:FALSE
SUMMARY:Six Steps to Choosing Health Insurance for Your Employees
DESCRIPTION:We know no two businesses are alike. Group Health plans should not all be the same either. Shannon Sims from Health Alliance Northwest Medical Plans will discuss six simple steps to consider when choosing group health insurance for you and your employees.  \n\n\n\nThis event is FREE\, please register to receive the Zoom link.
X-ALT-DESC;FMTTYPE=text/html:We know no two businesses are alike. Group Health plans should not all be the same either. Shannon Sims from Health Alliance Northwest Medical Plans will discuss six simple steps to consider when choosing group health insurance for you and your employees. &nbsp\;<br />\n<br />\nThis event is FREE\, please register to receive the Zoom link.
LOCATION:Online Event
UID:e.289.7888
SEQUENCE:3
DTSTAMP:20260424T152846Z
URL:https://business.wenatchee.org/events/details/six-steps-to-choosing-health-insurance-for-your-employees-7888
END:VEVENT

END:VCALENDAR
