BEGIN:VCALENDAR
VERSION:2.0
PRODID:-//ChamberMaster//Event Calendar 2.0//EN
METHOD:PUBLISH
X-PUBLISHED-TTL:P3D
REFRESH-INTERVAL:P3D
CALSCALE:GREGORIAN
BEGIN:VEVENT
DTSTART:20190216T210000Z
DTEND:20190216T230000Z
X-MICROSOFT-CDO-ALLDAYEVENT:FALSE
SUMMARY:Self Care Saturday: Breaking the Sugar Cycle
DESCRIPTION:Nourish Your Self! Join us for Self Love Saturday: Breaking the Sugar Cycle Valentine's day weekend at the Wenatchee Valley Chamber of Commerce meeting room from 1-3 pm for a FREE class with Dr. Allegra Hart\, ND on how to beat the sugar cycle. In this class\, Dr. Allegra will teach you how to nourish your self with love by eliminating and regulating your sugar intake. Now that it is February\, most of us have either been successful in keeping our New Year's resolutions or fallen off the wagon completely. Where ever you are in your journey\, this class is beneficial for anyone who is struggling to stop eating sugar. Dr. Allegra will teach you why it is important to stop the sugar cycle\, how to break the cycle and what foods you can eat to help nourish your body while beating inflammation. This is a free class for the community\, but space is limited. Please register to reserve your spot today by calling 509-663-5048.
X-ALT-DESC;FMTTYPE=text/html:Nourish Your Self! Join us for Self Love Saturday: Breaking the Sugar Cycle Valentine&#39\;s day weekend at the Wenatchee Valley Chamber of Commerce meeting room from 1-3 pm for a FREE class with Dr. Allegra Hart\, ND on how to beat the sugar cycle. In this class\, Dr. Allegra will teach you how to nourish your self with love by eliminating and regulating your sugar intake. Now that it is February\, most of us have either been successful in keeping our New Year&rsquo\;s resolutions or fallen off the wagon completely. Where ever you are in your journey\, this class is beneficial for anyone who is struggling to stop eating sugar. Dr. Allegra will teach you why it is important to stop the sugar cycle\, how to break the cycle and what foods you can eat to help nourish your body while beating inflammation. This is a free class for the community\, but space is limited. Please register to reserve your spot today by calling 509-663-5048.
LOCATION:Wenatchee Valley Chamber of Commerce Meeting Room
UID:e.289.7142
SEQUENCE:3
DTSTAMP:20260426T010017Z
URL:https://business.wenatchee.org/events/details/self-care-saturday-breaking-the-sugar-cycle-7142
END:VEVENT

END:VCALENDAR
