BEGIN:VCALENDAR
VERSION:2.0
PRODID:-//ChamberMaster//Event Calendar 2.0//EN
METHOD:PUBLISH
X-PUBLISHED-TTL:P3D
REFRESH-INTERVAL:P3D
CALSCALE:GREGORIAN
BEGIN:VEVENT
DTSTART:20190713T210000Z
DTEND:20190714T000000Z
X-MICROSOFT-CDO-ALLDAYEVENT:FALSE
SUMMARY:Second Saturday at the Wenatchee Chamber of Commerce
DESCRIPTION:Saturday\, July 13th | 2 pm - 5 pm\n\nDowntown Wenatchee Chamber of Commerce\n\nGet excited local Wenatchee wine lovers! Ryan Patrick Wines will be featured at the Wenatchee Valley Chamber of Commerce Vistor Center & Tasting Room for a special tasting experience. Guests will enjoy a fight of 4 wines\, light snacks\, and entertainment. Wine will be available for purchase.
X-ALT-DESC;FMTTYPE=text/html:<strong><span style="font-family:century gothic\,sans-serif"><span style="font-size:9pt">Saturday\, July 13th | 2 pm - 5 pm</span></span></strong><br />\n<strong><span style="font-family:century gothic\,sans-serif"><span style="font-size:9pt">Downtown Wenatchee Chamber of Commerce</span></span></strong><br />\n<span style="font-family:century gothic\,sans-serif"><span style="font-size:9pt">Get excited local Wenatchee wine lovers! Ryan Patrick Wines will be featured at the Wenatchee Valley Chamber of Commerce Vistor Center &amp\; Tasting Room for a special tasting experience. Guests will enjoy a fight of 4 wines\, light snacks\, and entertainment. Wine will be available for purchase.&nbsp\;</span></span>
LOCATION:137 N Wenatchee Ave Suite 101\, Wenatchee\, WA 98801
UID:e.289.7361
SEQUENCE:3
DTSTAMP:20260425T165406Z
URL:https://business.wenatchee.org/events/details/second-saturday-at-the-wenatchee-chamber-of-commerce-7361
END:VEVENT

END:VCALENDAR
