BEGIN:VCALENDAR
VERSION:2.0
PRODID:-//ChamberMaster//Event Calendar 2.0//EN
METHOD:PUBLISH
X-PUBLISHED-TTL:P3D
REFRESH-INTERVAL:P3D
CALSCALE:GREGORIAN
BEGIN:VEVENT
DTSTART:20200311T230000Z
DTEND:20200312T000000Z
X-MICROSOFT-CDO-ALLDAYEVENT:FALSE
SUMMARY:Science In Our Valley: Technology For Trade
DESCRIPTION:Science In Our Valley is a series of weekly seminars free and open to the public. Each series features the research of local scientists and invited guest speakers. The purpose of the series to encourage the development of an engaged regional scientific community and share the incredible research happening in our own backyard. Technology for trade: new tools and new rules for water use efficiency in agriculture and beyond with Dr. Claudio Stockle Dr. Claudio St ckle's research is in the Land\, Air\, Water Resources and Environmental Engineering (LAWREE) research emphasis area. His focus is on the development and application of analytical tools to study\, understand and manage the interaction between soil\, weather\, and crops. He is particularly interested in modeling the environmental impact of agricultural production at the field and water shed levels and in further enhancement and support of the Agricultural Crop Systems Modeling Software (CROPSYST) he developed.
X-ALT-DESC;FMTTYPE=text/html:Science In Our Valley is a series of weekly seminars free and open to the public. Each series features the research of local scientists and invited guest speakers. The purpose of the series to encourage the development of an engaged regional scientific community and share the incredible research happening in our own backyard. Technology for trade: new tools and new rules for water use efficiency in agriculture and beyond with Dr. Claudio Stockle Dr. Claudio St&ouml\;ckle&rsquo\;s research is in the Land\, Air\, Water Resources and Environmental Engineering (LAWREE) research emphasis area. His focus is on the development and application of analytical tools to study\, understand and manage the interaction between soil\, weather\, and crops. He is particularly interested in modeling the environmental impact of agricultural production at the field and water shed levels and in further enhancement and support of the Agricultural Crop Systems Modeling Software (CROPSYST) he developed.
LOCATION:WSU Tree Fruit Research Center
UID:e.289.7682
SEQUENCE:3
DTSTAMP:20260425T033321Z
URL:https://business.wenatchee.org/events/details/science-in-our-valley-technology-for-trade-7682
END:VEVENT

END:VCALENDAR
