BEGIN:VCALENDAR
VERSION:2.0
PRODID:-//ChamberMaster//Event Calendar 2.0//EN
METHOD:PUBLISH
X-PUBLISHED-TTL:P3D
REFRESH-INTERVAL:P3D
CALSCALE:GREGORIAN
BEGIN:VEVENT
DTSTART:20200415T230000Z
DTEND:20200416T000000Z
X-MICROSOFT-CDO-ALLDAYEVENT:FALSE
SUMMARY:Science In Our Valley: CANCELLED
DESCRIPTION:Science In Our Valley is a series of weekly seminars free and open to the public. Each series features the research of local scientists and invited guest speakers. The purpose of the series to encourage the development of an engaged regional scientific community and share the incredible research happening in our own backyard. Native Bees of Washington State with Dr. Don Rolfs Formally trained in Native Bee biology\, Dr. Don Rolfs has\, for more than a decade\, focused his field work\, laboratory work and photographic skills on the 600+ species of Native Bees of Washington State. While Honey Bees have a place in agriculture\, it is our Native Bees who are the primary pollinators\, responsible for the flowers of our mountain meadows and remote wild places. Dr. Rolfs' profusely illustrated lecture is an introduction to the variety and to the stunning beauty of these essential pollinators.
X-ALT-DESC;FMTTYPE=text/html:Science In Our Valley is a series of weekly seminars free and open to the public. Each series features the research of local scientists and invited guest speakers. The purpose of the series to encourage the development of an engaged regional scientific community and share the incredible research happening in our own backyard. Native Bees of Washington State with Dr. Don Rolfs Formally trained in Native Bee biology\, Dr. Don Rolfs has\, for more than a decade\, focused his field work\, laboratory work and photographic skills on the 600+ species of Native Bees of Washington State. While Honey Bees have a place in agriculture\, it is our Native Bees who are the primary pollinators\, responsible for the flowers of our mountain meadows and remote wild places. Dr. Rolfs&rsquo\; profusely illustrated lecture is an introduction to the variety and to the stunning beauty of these essential pollinators.
LOCATION:WSU Tree Fruit Research Center
UID:e.289.7684
SEQUENCE:3
DTSTAMP:20260425T014809Z
URL:https://business.wenatchee.org/events/details/science-in-our-valley-cancelled-7684
END:VEVENT

END:VCALENDAR
