BEGIN:VCALENDAR
VERSION:2.0
PRODID:-//ChamberMaster//Event Calendar 2.0//EN
METHOD:PUBLISH
X-PUBLISHED-TTL:P3D
REFRESH-INTERVAL:P3D
CALSCALE:GREGORIAN
BEGIN:VEVENT
DTSTART:20210202T210000Z
DTEND:20210202T220000Z
X-MICROSOFT-CDO-ALLDAYEVENT:FALSE
SUMMARY:SBDC Hiring Independent contractors
DESCRIPTION:Looking to Hire a Freelancer or Independent Contractor? This no cost webinar will cover what a business owner needs to know in order to prevent expensive consequences.\n\nIn the interest of simplicity\, it is tempting to engage individuals to do work for your business\, or provide services to your business\, as "independent contractors."  Yet if you're not clear on the rules\, there can be very costly impacts. \n\nLearn:\n\n\n	How the state\, and specifically L&I\, defines employees and independent contractors\n	How it differs from the IRS\n	How to classify people properly to ensure you're in compliance with the law\n\n\n \n\nThe presenter is Keith Davis\, Associate Business Advisor\, Washington SBDC. \n\nWashington Department of Labor & Industry contacts are included.
X-ALT-DESC;FMTTYPE=text/html:<p style="margin-top: 0px\; margin-bottom: 10px\; line-height: 23.2px\; color: rgb(0\, 0\, 0)\; font-family: Lato\, Arial\, Helvetica\, sans-serif\; font-size: 16px\;">Looking to Hire a Freelancer or Independent Contractor? This no cost webinar will cover what a business owner needs to know&nbsp\;in order to prevent expensive consequences.</p>\n\n<p style="margin-top: 0px\; margin-bottom: 10px\; line-height: 23.2px\; color: rgb(0\, 0\, 0)\; font-family: Lato\, Arial\, Helvetica\, sans-serif\; font-size: 16px\;">In the interest of simplicity\, it is tempting to engage individuals to do work for your business\, or provide services to your business\, as &ldquo\;independent contractors.&rdquo\;&nbsp\; Yet if you&rsquo\;re not clear on the rules\, there can be very costly impacts.&nbsp\;</p>\n\n<p style="margin-top: 0px\; margin-bottom: 10px\; line-height: 23.2px\; color: rgb(0\, 0\, 0)\; font-family: Lato\, Arial\, Helvetica\, sans-serif\; font-size: 16px\;">Learn:</p>\n\n<ul style="margin-top: 3px\; color: rgb(0\, 0\, 0)\; font-family: Lato\, Arial\, Helvetica\, sans-serif\; font-size: 16px\;">\n	<li style="margin-top: 0px\; margin-left: 0px\; line-height: 25.6px\;">How the state\, and specifically L&amp\;I\, defines employees and independent contractors</li>\n	<li style="margin-top: 0px\; margin-left: 0px\; line-height: 25.6px\;">How it differs from the IRS</li>\n	<li style="margin-top: 0px\; margin-left: 0px\; line-height: 25.6px\;">How to classify people properly to ensure you&rsquo\;re in compliance with the law</li>\n</ul>\n\n<p style="margin-top: 0px\; margin-bottom: 10px\; line-height: 23.2px\; color: rgb(0\, 0\, 0)\; font-family: Lato\, Arial\, Helvetica\, sans-serif\; font-size: 16px\;">&nbsp\;</p>\n\n<p style="margin-top: 0px\; margin-bottom: 10px\; line-height: 23.2px\; color: rgb(0\, 0\, 0)\; font-family: Lato\, Arial\, Helvetica\, sans-serif\; font-size: 16px\;">The presenter is Keith Davis\, Associate Business Advisor\, Washington SBDC.&nbsp\;</p>\n\n<p style="margin-top: 0px\; margin-bottom: 10px\; line-height: 23.2px\; color: rgb(0\, 0\, 0)\; font-family: Lato\, Arial\, Helvetica\, sans-serif\; font-size: 16px\;">Washington Department of Labor &amp\; Industry contacts are included.&nbsp\;</p>\n
LOCATION:Our Zoom security protocols require each participant have a Zoom account and be signed into their account from their computer or mobile device. https://zoom.us/ Test zoom at https://zoom.us/test
UID:e.289.7810
SEQUENCE:3
DTSTAMP:20260424T085508Z
URL:https://business.wenatchee.org/events/details/sbdc-hiring-independent-contractors-7810
END:VEVENT

END:VCALENDAR
