BEGIN:VCALENDAR
VERSION:2.0
PRODID:-//ChamberMaster//Event Calendar 2.0//EN
METHOD:PUBLISH
X-PUBLISHED-TTL:P3D
REFRESH-INTERVAL:P3D
CALSCALE:GREGORIAN
BEGIN:VEVENT
DTSTART:20210204T200000Z
DTEND:20210204T200000Z
X-MICROSOFT-CDO-ALLDAYEVENT:FALSE
SUMMARY:SBDC Business Finance: Business Credit
DESCRIPTION:Training Topics: Accounting/Budget\, Business Financing\, Business Start-up/Preplanning\, Buy/Sell Business\, Cash Flow Management\, Disaster Planning\, Legal Issues\, Managing a Business\, Risk Management\, Tax Planning\n\nDescription:\n\nIs your personal credit preventing you from growing your business?\n\nWant to separate your social security number from business debt?\n\nNeed access to vendor accounts or business credit cards? \n\n \n\nThis workshop will help you separate yourself from your business by establishing credit using your EIN instead of your SSN with a simple formula that will help you gain access to capital. This workshop will also dispel some myths about personal credit to help you improve if strategically!
X-ALT-DESC;FMTTYPE=text/html:<label style="font-weight: bold\; line-height: 20px\; color: rgb(0\, 0\, 0)\; font-family: Lato\, Arial\, Helvetica\, sans-serif\; font-size: 16px\;">Training Topics:</label><span style="color: rgb(0\, 0\, 0)\; font-family: Lato\, Arial\, Helvetica\, sans-serif\; font-size: 16px\;">&nbsp\;Accounting/Budget\, Business Financing\, Business Start-up/Preplanning\, Buy/Sell Business\, Cash Flow Management\, Disaster Planning\, Legal Issues\, Managing a Business\, Risk Management\, Tax Planning</span><br style="color: rgb(0\, 0\, 0)\; font-family: Lato\, Arial\, Helvetica\, sans-serif\; font-size: 16px\;" />\n<label style="font-weight: bold\; line-height: 20px\; color: rgb(0\, 0\, 0)\; font-family: Lato\, Arial\, Helvetica\, sans-serif\; font-size: 16px\;">Description:</label>\n<div class="conf-desc" style="padding-top: 0px\; padding-bottom: 10px\; color: rgb(0\, 0\, 0)\; font-family: Lato\, Arial\, Helvetica\, sans-serif\; font-size: 16px\;">\n<div id="m_1205856053171531216geom_inter_1544073886265_53_5">Is your personal credit preventing you from growing your business?</div>\n\n<div>Want to separate your social security number from business debt?</div>\n\n<div>Need access to vendor accounts or business credit cards?&nbsp\;</div>\n\n<div>&nbsp\;</div>\n\n<div>This workshop will help you separate yourself from your business by establishing credit using your EIN instead of your SSN with a simple formula that will help you gain access to capital. This workshop will also dispel some myths about personal credit to help you improve if strategically!</div>\n</div>\n
LOCATION:Zoom link will be provided. Replay available to all registrants
UID:e.289.7811
SEQUENCE:3
DTSTAMP:20260424T085901Z
URL:https://business.wenatchee.org/events/details/sbdc-business-finance-business-credit-7811
END:VEVENT

END:VCALENDAR
