BEGIN:VCALENDAR
VERSION:2.0
PRODID:-//ChamberMaster//Event Calendar 2.0//EN
METHOD:PUBLISH
X-PUBLISHED-TTL:P3D
REFRESH-INTERVAL:P3D
CALSCALE:GREGORIAN
BEGIN:VEVENT
DTSTART:20210129T180000Z
DTEND:20210129T200000Z
X-MICROSOFT-CDO-ALLDAYEVENT:FALSE
SUMMARY:SBA Round 2 COVID-19 Relief and PPP Application
DESCRIPTION:New Coronavirus relief provisions were signed into law on December 27th\, 2020. This training webinar will cover key elements of the legislation with a focus on the new round of Paycheck Protection Program (PPP loans) and the application process:\n\nCovered:\n\n\n	SBA Debt relief and other programs\n	EIDL & EIDL Advance\n	Special lending accessibility in the new legislation for certain businesses\n	Update on how and where to apply for a new or additional PPP\n	Allowed uses for the PPP loans\n	Eligibility for the PPP\, how to prepare and work with your lender\n	Key improvements and changes to the PPP\n	Preparation for loan forgiveness\n	Where to get additional help\n\n\nTechnical assistance providers for bi-lingual and underserved small businesses are encouraged to attend.\n\n \n\nQ and A will be covered as time allows. \n\n \n\nThis webinar will be repeated bi-weekly as needed.\nPresenters:\n\n \n\nSteve Burke\, Washington SBDC Certified Business Advisor\n\n \n\nJanie Sacco\, Marketing and Outreach Specialist\, Seattle District Office\, U.S. Small Business Administration\n\n \n\nMark Costello\, Deputy District Director\, Seattle District Office\, U.S. Small Business Administration
X-ALT-DESC;FMTTYPE=text/html:<p style="margin-top: 0px\; margin-bottom: 10px\; line-height: 23.2px\; color: rgb(0\, 0\, 0)\; font-family: Lato\, Arial\, Helvetica\, sans-serif\; font-size: 16px\;">New Coronavirus relief provisions were signed into law on December 27th\, 2020. This training webinar will cover key elements of the legislation with a focus on the new round of Paycheck Protection Program (PPP loans) and the application process:</p>\n\n<p style="margin-top: 0px\; margin-bottom: 10px\; line-height: 23.2px\; color: rgb(0\, 0\, 0)\; font-family: Lato\, Arial\, Helvetica\, sans-serif\; font-size: 16px\;">Covered:</p>\n\n<ul style="margin-top: 3px\; color: rgb(0\, 0\, 0)\; font-family: Lato\, Arial\, Helvetica\, sans-serif\; font-size: 16px\;">\n	<li style="margin-top: 0px\; margin-left: 0px\; line-height: 25.6px\;">SBA Debt relief and other programs</li>\n	<li style="margin-top: 0px\; margin-left: 0px\; line-height: 25.6px\;">EIDL &amp\; EIDL Advance</li>\n	<li style="margin-top: 0px\; margin-left: 0px\; line-height: 25.6px\;">Special lending accessibility in the new legislation for certain businesses</li>\n	<li style="margin-top: 0px\; margin-left: 0px\; line-height: 25.6px\;">Update on how and where to apply for a new or additional PPP</li>\n	<li style="margin-top: 0px\; margin-left: 0px\; line-height: 25.6px\;">Allowed uses for the PPP loans</li>\n	<li style="margin-top: 0px\; margin-left: 0px\; line-height: 25.6px\;">Eligibility for the PPP\, how to prepare and work with your lender</li>\n	<li style="margin-top: 0px\; margin-left: 0px\; line-height: 25.6px\;">Key improvements and changes to the PPP</li>\n	<li style="margin-top: 0px\; margin-left: 0px\; line-height: 25.6px\;">Preparation for loan forgiveness</li>\n	<li style="margin-top: 0px\; margin-left: 0px\; line-height: 25.6px\;">Where to get additional help</li>\n</ul>\n\n<div class="O1" style="color: rgb(0\, 0\, 0)\; font-family: Lato\, Arial\, Helvetica\, sans-serif\; font-size: 16px\;">Technical assistance providers for bi-lingual and underserved small businesses are encouraged to attend.</div>\n\n<div class="O1" style="color: rgb(0\, 0\, 0)\; font-family: Lato\, Arial\, Helvetica\, sans-serif\; font-size: 16px\;">&nbsp\;</div>\n\n<div class="O1" style="color: rgb(0\, 0\, 0)\; font-family: Lato\, Arial\, Helvetica\, sans-serif\; font-size: 16px\;">Q and A will be covered as time allows.&nbsp\;</div>\n\n<div class="O1" style="color: rgb(0\, 0\, 0)\; font-family: Lato\, Arial\, Helvetica\, sans-serif\; font-size: 16px\;">&nbsp\;</div>\n\n<div class="O1" style="color: rgb(0\, 0\, 0)\; font-family: Lato\, Arial\, Helvetica\, sans-serif\; font-size: 16px\;">This webinar will be repeated bi-weekly as needed.\n<div class="O1" style="color: rgb(0\, 0\, 0)\; font-family: Lato\, Arial\, Helvetica\, sans-serif\; font-size: 16px\;">Presenters:</div>\n\n<div class="O1" style="color: rgb(0\, 0\, 0)\; font-family: Lato\, Arial\, Helvetica\, sans-serif\; font-size: 16px\;">&nbsp\;</div>\n\n<div class="O1" style="color: rgb(0\, 0\, 0)\; font-family: Lato\, Arial\, Helvetica\, sans-serif\; font-size: 16px\;">Steve Burke\,&nbsp\;Washington SBDC Certified Business Advisor</div>\n\n<div class="O1" style="color: rgb(0\, 0\, 0)\; font-family: Lato\, Arial\, Helvetica\, sans-serif\; font-size: 16px\;">&nbsp\;</div>\n\n<div class="O1" style="color: rgb(0\, 0\, 0)\; font-family: Lato\, Arial\, Helvetica\, sans-serif\; font-size: 16px\;">Janie Sacco\,&nbsp\;Marketing and Outreach Specialist\, Seattle District Office\, U.S. Small Business Administration</div>\n\n<div class="O1" style="color: rgb(0\, 0\, 0)\; font-family: Lato\, Arial\, Helvetica\, sans-serif\; font-size: 16px\;">&nbsp\;</div>\n\n<div class="O1" style="color: rgb(0\, 0\, 0)\; font-family: Lato\, Arial\, Helvetica\, sans-serif\; font-size: 16px\;">Mark Costello\, Deputy District Director\,&nbsp\;Seattle District Office\, U.S. Small Business Administration</div>\n</div>\n
LOCATION:A Zoom link for the webinar will be sent prior to the event to those who register. Our Zoom security protocols now require each participant have a Zoom account and be signed into their account from their computer or mobile device. https://zoom.us/
UID:e.289.7809
SEQUENCE:3
DTSTAMP:20260424T102424Z
URL:https://business.wenatchee.org/events/details/sba-round-2-covid-19-relief-and-ppp-application-7809
END:VEVENT

END:VCALENDAR
