BEGIN:VCALENDAR
VERSION:2.0
PRODID:-//ChamberMaster//Event Calendar 2.0//EN
METHOD:PUBLISH
X-PUBLISHED-TTL:P3D
REFRESH-INTERVAL:P3D
CALSCALE:GREGORIAN
BEGIN:VEVENT
DTSTART:20191109T200000Z
DTEND:20191110T000000Z
X-MICROSOFT-CDO-ALLDAYEVENT:FALSE
SUMMARY:Salmon Bake: Members Only
DESCRIPTION:In celebration of the bountiful harvest\, we invite Museum members to gather for a Salmon Bake at the Wenatchee Valley Museum & Cultural Center. We encourage you to bring a non-member friend so we can deepen our impact within the community. Members who bring a friend receive a complimentary gift from the Museum. Please join us join us at our fall Salmon Bake! RSVP's are appreciated! Please RSVP to info@wvmcc.org\, or call 509 (888-6240). If you are interested in obtaining a membership\, see our membership information and levels here! We hope to see you there! $10 suggested donation per plate.
X-ALT-DESC;FMTTYPE=text/html:In celebration of the bountiful harvest\, we invite Museum members to gather for a Salmon Bake at the Wenatchee Valley Museum &amp\; Cultural Center. We encourage you to bring a non-member friend so we can deepen our impact within the community. Members who bring a friend receive a complimentary gift from the Museum. Please join us join us at our fall Salmon Bake! RSVP&rsquo\;s are appreciated! Please RSVP to info@wvmcc.org\, or call 509 (888-6240). If you are interested in obtaining a membership\, see our membership information and levels here! We hope to see you there! $10 suggested donation per plate.
LOCATION:Wenatchee Valley Museum & Cultural Center
UID:e.289.7485
SEQUENCE:3
DTSTAMP:20260425T102808Z
URL:https://business.wenatchee.org/events/details/salmon-bake-members-only-7485
END:VEVENT

END:VCALENDAR
