BEGIN:VCALENDAR
VERSION:2.0
PRODID:-//ChamberMaster//Event Calendar 2.0//EN
METHOD:PUBLISH
X-PUBLISHED-TTL:P3D
REFRESH-INTERVAL:P3D
CALSCALE:GREGORIAN
BEGIN:VEVENT
DTSTART:20190714T030000Z
DTEND:20190714T050000Z
X-MICROSOFT-CDO-ALLDAYEVENT:FALSE
SUMMARY:Run with the Cops 5K for Special Olympics Washington
DESCRIPTION:p.p1 {margin: 0.0px 0.0px 0.0px 0.0px\; font: 11.0px Arial\; color: #000000\; -webkit-text-stroke: #000000}\nspan.s1 {font-kerning: none}\n\nDo you have what it takes to run with the cops? Local law enforcement agencies invite\n\nparticipants of all abilities to find out at the Run with the Cops 5K for Special Olympics Washington in East Wenatchee. The family friendly event kicks off a series of 5Ks around the state this summer and is a key fundraiser for the Law Enforcement Torch Run (LETR) campaign for Special Olympics Washington\, which raises funds and awareness for athletes with intellectual disabilities. There is a 5K run/walk for adults and a 2K run/walk for children.\n\n\n\np.p1 {margin: 0.0px 0.0px 0.0px 63.0px\; text-indent: -45.0px\; font: 11.0px Arial\; color: #000000\; -webkit-text-stroke: #000000}\nspan.s1 {font-kerning: none}\n\n\n\nFunds raised will benefit more than 19\,000 Special Olympics athletes across the state. In 2018\, through the support of sponsors and more than 400 participants the Run with the Cops event series raised more than $30\,000 for Special Olympics Washington.\n\n\n\np.p1 {margin: 0.0px 0.0px 0.0px 0.0px\; font: 11.0px Arial\; color: #000000\; -webkit-text-stroke: #000000}\nspan.s1 {font-kerning: none}\nspan.s2 {font-kerning: none\; background-color: #ffffff}\n\n\n\nOnline registration is available until 9:00 a.m. on Thursday\, July 11. Day of registration opens at 7:00 p.m. on July 13 at the Fred Meyer in East Wenatchee.
X-ALT-DESC;FMTTYPE=text/html:<style type="text/css">p.p1 {margin: 0.0px 0.0px 0.0px 0.0px\; font: 11.0px Arial\; color: #000000\; -webkit-text-stroke: #000000}\nspan.s1 {font-kerning: none}\n</style>\n<p class="p1"><span class="s1">Do you have what it takes to run with the cops? Local law enforcement agencies invite<br />\nparticipants of all abilities to find out at the <b>Run with the Cops 5K</b> <b>for Special Olympics Washington</b> in East Wenatchee. The family friendly event kicks off a series of 5Ks around the state this summer and is a key fundraiser for the Law Enforcement Torch Run (LETR) campaign for Special Olympics Washington\, which raises funds and awareness for athletes with intellectual disabilities. There is a 5K run/walk for adults and a 2K run/walk for children.</span><br />\n<br />\n<style type="text/css">p.p1 {margin: 0.0px 0.0px 0.0px 63.0px\; text-indent: -45.0px\; font: 11.0px Arial\; color: #000000\; -webkit-text-stroke: #000000}\nspan.s1 {font-kerning: none}\n</style>\n</p>\n\n<p class="p1"><span class="s1">Funds raised will benefit more than 19\,000 Special Olympics athletes across the state. In 2018\, through the support of sponsors and more than 400 participants the Run with the Cops event series raised more than $30\,000 for Special Olympics Washington.</span><br />\n<br />\n<style type="text/css">p.p1 {margin: 0.0px 0.0px 0.0px 0.0px\; font: 11.0px Arial\; color: #000000\; -webkit-text-stroke: #000000}\nspan.s1 {font-kerning: none}\nspan.s2 {font-kerning: none\; background-color: #ffffff}\n</style>\n</p>\n\n<p class="p1"><span class="s1">Online registration is available until 9:00 a.m. on Thursday\, July 11. Day of registration opens at 7:00 p.m. on July 13 a</span><span class="s2">t the </span><span class="s1">Fred Meyer in East Wenatchee. </span></p>\n
LOCATION:p.p1 {margin: 0.0px 0.0px 0.0px 63.0px\; text-indent: -45.0px\; font: 11.0px Arial\; color: #000000\; -webkit-text-stroke: #000000} span.s1 {font-kerning: none} Fred Meyer in East Wenatchee (11 Grant Road\, East Wenatchee)
UID:e.289.7377
SEQUENCE:3
DTSTAMP:20260425T163343Z
URL:https://business.wenatchee.org/events/details/run-with-the-cops-5k-for-special-olympics-washington-7377
END:VEVENT

END:VCALENDAR
