BEGIN:VCALENDAR
VERSION:2.0
PRODID:-//ChamberMaster//Event Calendar 2.0//EN
METHOD:PUBLISH
X-PUBLISHED-TTL:P3D
REFRESH-INTERVAL:P3D
CALSCALE:GREGORIAN
BEGIN:VEVENT
DTSTART:20190511T150000Z
DTEND:20190511T170000Z
X-MICROSOFT-CDO-ALLDAYEVENT:FALSE
SUMMARY:Run For Your Mother 5k
DESCRIPTION:A 5K Run/Walk to benefit Wenatchee MOPS (Mother's of Preschoolers) 5k @9am ($25) Open to all ages. Kid's 1k @8:30am (Free) Ages 12 and under.
X-ALT-DESC;FMTTYPE=text/html:A 5K Run/Walk to benefit Wenatchee MOPS (Mother&#39\;s of Preschoolers) 5k @9am ($25) Open to all ages. Kid&#39\;s 1k @8:30am (Free) Ages 12 and under.
LOCATION:Walla Walla Point Park
UID:e.289.7156
SEQUENCE:3
DTSTAMP:20260425T200753Z
URL:https://business.wenatchee.org/events/details/run-for-your-mother-5k-05-11-2019-7156
END:VEVENT

END:VCALENDAR
