BEGIN:VCALENDAR
VERSION:2.0
PRODID:-//ChamberMaster//Event Calendar 2.0//EN
METHOD:PUBLISH
X-PUBLISHED-TTL:P3D
REFRESH-INTERVAL:P3D
CALSCALE:GREGORIAN
BEGIN:VEVENT
DTSTART:20191108T010000Z
DTEND:20191108T030000Z
X-MICROSOFT-CDO-ALLDAYEVENT:FALSE
SUMMARY:Ribbon Cutting & Open House at Wenatchee Valley Dispute Resolution Center
DESCRIPTION:Serving Chelan and Douglas counties since 2006\, Wenatchee Valley Dispute Resolution Center's board members\, staff\, and volunteers are excited to announce their move to a new location in downtown Wenatchee. The community is invited to attend an open house and ribbon cutting ceremony on Thursday\, November 7 from 5-7 p.m. at 5 South Wenatchee Avenue\, Suite 315.
X-ALT-DESC;FMTTYPE=text/html:Serving Chelan and Douglas counties since 2006\, Wenatchee Valley Dispute Resolution Center&rsquo\;s board members\, staff\, and volunteers are excited to announce their move to a new location in downtown Wenatchee. The community is invited to attend an open house and ribbon cutting ceremony on Thursday\, November 7 from 5-7 p.m. at 5 South Wenatchee Avenue\, Suite 315.
LOCATION:5 South Wenatchee Avenue\, Suite 315 Wenatchee\, WA 98801
UID:e.289.7511
SEQUENCE:3
DTSTAMP:20260425T121938Z
URL:https://business.wenatchee.org/events/details/ribbon-cutting-open-house-at-wenatchee-valley-dispute-resolution-center-7511
END:VEVENT

END:VCALENDAR
