BEGIN:VCALENDAR
VERSION:2.0
PRODID:-//ChamberMaster//Event Calendar 2.0//EN
METHOD:PUBLISH
X-PUBLISHED-TTL:P3D
REFRESH-INTERVAL:P3D
CALSCALE:GREGORIAN
BEGIN:VEVENT
DTSTART:20191010T000000Z
DTEND:20191010T020000Z
X-MICROSOFT-CDO-ALLDAYEVENT:FALSE
SUMMARY:Ribbon Cutting & Open House at Health Alliance Northwest
DESCRIPTION:Join us in celebration of Health Alliance NW's move to a new office space. Come meet the team who strives to provide the highest quality\, local healthcare and customer service within NCW. Enjoy appetizers provided by Tastebud's\, wine provided by Horan Estates Winery\, free flu shots courtesy of Confluence Health\, and fun giveaways.
X-ALT-DESC;FMTTYPE=text/html:Join us in celebration of Health Alliance NW&#39\;s move to a new office space. Come meet the team who strives to provide the highest quality\, local healthcare and customer service within NCW. Enjoy appetizers provided by Tastebud&#39\;s\, wine provided by Horan Estates Winery\, free flu shots courtesy of Confluence Health\, and fun giveaways.&nbsp\;
LOCATION:411 N. Chelan Ave. Suite A Wenatchee\, WA 98801
UID:e.289.7467
SEQUENCE:3
DTSTAMP:20260425T121026Z
URL:https://business.wenatchee.org/events/details/ribbon-cutting-open-house-at-health-alliance-northwest-7467
END:VEVENT

END:VCALENDAR
