BEGIN:VCALENDAR
VERSION:2.0
PRODID:-//ChamberMaster//Event Calendar 2.0//EN
METHOD:PUBLISH
X-PUBLISHED-TTL:P3D
REFRESH-INTERVAL:P3D
CALSCALE:GREGORIAN
BEGIN:VEVENT
DTSTART:20191115T190000Z
DTEND:20191115T210000Z
X-MICROSOFT-CDO-ALLDAYEVENT:FALSE
SUMMARY:Ribbon Cutting & Open House
DESCRIPTION:Serve Wenatchee Valley is excited to move into their new location and invite you to join us for a Ribbon Cutting ceremony at 11:30 followed by an open house. Come see their new space and learn how they support our community.
X-ALT-DESC;FMTTYPE=text/html:<span style="color: rgb(46\, 47\, 47)\; font-family: Roboto\, sans-serif\; font-size: 14px\; text-align: justify\; white-space: pre-wrap\;">Serve Wenatchee Valley is excited to move into their new location and invite you to join us for a Ribbon Cutting ceremony at 11:30 followed by an open house. Come see their new space and learn how they support our community.</span>
LOCATION:12 Orondo Ave. Wenatchee\, WA 98801
UID:e.289.7525
SEQUENCE:3
DTSTAMP:20260425T102913Z
URL:https://business.wenatchee.org/events/details/ribbon-cutting-open-house-7525
END:VEVENT

END:VCALENDAR
