BEGIN:VCALENDAR
VERSION:2.0
PRODID:-//ChamberMaster//Event Calendar 2.0//EN
METHOD:PUBLISH
X-PUBLISHED-TTL:P3D
REFRESH-INTERVAL:P3D
CALSCALE:GREGORIAN
BEGIN:VEVENT
DTSTART:20191112T230000Z
DTEND:20191113T020000Z
X-MICROSOFT-CDO-ALLDAYEVENT:FALSE
SUMMARY:Ribbon Cutting & Open House
DESCRIPTION:We are excited to celebrate the grand opening of the dedicated Guided Independence Wing within the Highgate Senior Living Community. Join us for a Ribbon Cutting ceremony at 3:30pm followed by tours\, snacks\, refreshments and door prizes.
X-ALT-DESC;FMTTYPE=text/html:We are excited to celebrate the grand opening of the dedicated Guided Independence Wing within the Highgate Senior Living Community. Join us for a Ribbon Cutting ceremony at 3:30pm followed by tours\, snacks\, refreshments and door prizes.
LOCATION:1320 S. Miller Wenatchee\, WA 98801
UID:e.289.7524
SEQUENCE:3
DTSTAMP:20260425T114141Z
URL:https://business.wenatchee.org/events/details/ribbon-cutting-open-house-7524
END:VEVENT

END:VCALENDAR
