BEGIN:VCALENDAR
VERSION:2.0
PRODID:-//ChamberMaster//Event Calendar 2.0//EN
METHOD:PUBLISH
X-PUBLISHED-TTL:P3D
REFRESH-INTERVAL:P3D
CALSCALE:GREGORIAN
BEGIN:VEVENT
DTSTART:20210416T180000Z
DTEND:20210416T200000Z
X-MICROSOFT-CDO-ALLDAYEVENT:FALSE
SUMMARY:Ribbon Cutting at New Life Recovery
DESCRIPTION:Join us for the grand opening of New Life Recovery Center! Meet the staff\, enjoy light snacks and refreshments\, check out the space and learn more about all the work they are doing.
X-ALT-DESC;FMTTYPE=text/html:Join us for the grand opening of New Life Recovery Center! Meet the staff\, enjoy light snacks and refreshments\, check out the space and learn more about all the work they are doing.&nbsp\;
LOCATION:25 N. Wenatchee Ave. Ste. 214 Wenatchee\, WA 98801
UID:e.289.8045
SEQUENCE:3
DTSTAMP:20260422T183522Z
URL:https://business.wenatchee.org/events/details/ribbon-cutting-at-new-life-recovery-8045
END:VEVENT

END:VCALENDAR
