BEGIN:VCALENDAR
VERSION:2.0
PRODID:-//ChamberMaster//Event Calendar 2.0//EN
METHOD:PUBLISH
X-PUBLISHED-TTL:P3D
REFRESH-INTERVAL:P3D
CALSCALE:GREGORIAN
BEGIN:VEVENT
DTSTART:20190418T200000Z
DTEND:20190418T203000Z
X-MICROSOFT-CDO-ALLDAYEVENT:FALSE
SUMMARY:Ribbon Cutting at Feathered Salon
DESCRIPTION:This is going to be fun - check out the newest glam addtion to downtown and the Morris Building. Right across from Norwood Wine Bar.
X-ALT-DESC;FMTTYPE=text/html:This is going to be fun - check out the newest glam addtion to downtown and the Morris Building. Right across from Norwood Wine Bar.
LOCATION:23 S Wenatchee Avenue Suite 102
UID:e.289.7221
SEQUENCE:3
DTSTAMP:20260425T214913Z
URL:https://business.wenatchee.org/events/details/ribbon-cutting-at-feathered-salon-7221
END:VEVENT

END:VCALENDAR
