BEGIN:VCALENDAR
VERSION:2.0
PRODID:-//ChamberMaster//Event Calendar 2.0//EN
METHOD:PUBLISH
X-PUBLISHED-TTL:P3D
REFRESH-INTERVAL:P3D
CALSCALE:GREGORIAN
BEGIN:VEVENT
DTSTART:20190406T000000Z
DTEND:20190406T010000Z
X-MICROSOFT-CDO-ALLDAYEVENT:FALSE
SUMMARY:Ribbon Cutting @ 509 Bierwerks
DESCRIPTION:Join us as we welcome Wenatchee's newest brewery\, located in the historic Wells and Wade building in downtown Wenatchee. The corner of Columbia and Yakima.
X-ALT-DESC;FMTTYPE=text/html:Join us as we welcome Wenatchee&#39\;s newest brewery\, located in the historic Wells and Wade building in downtown Wenatchee. The corner of Columbia and Yakima.&nbsp\;
LOCATION:200 S Columbia Street
UID:e.289.7220
SEQUENCE:3
DTSTAMP:20260425T214639Z
URL:https://business.wenatchee.org/events/details/ribbon-cutting-509-bierwerks-7220
END:VEVENT

END:VCALENDAR
